Workbook

Sheet Übersicht
A1: Schuljahr | C1: 2026/27
A2: Fach/Klasse | C2: M - 4a
A3: LehrerInnen | C3: Niklas Baumgärtler, Anna Maier | E3: ToDo: | F3: Namen der SchülerInnen eintragen - sobald ein Name existiert, werden diese automatisch auf alle anderen Tabellenblätter (Hausübungen, Mitarbeit etc.) übertragen
A4: Semesterschluss | C4: 46429 | F4: Die Notenberechnung geschieht vollautomatisch basierend auf den Eintragungen
A5: Datum heute | C5: =TODAY() -> 46240 | E5: Achtung: | F5: Grau oder blau hinterlegte Felder berechnen etwas automatisch - nur in Spalten direkt eintragen, die lila hinterlegt sind!
Q7: 1. Semester | U7: 2. Semester | Y7: SA/Test 1: | Z7: 46318 | AC7: SA/Test 2: | AD7: 46399 | AG7: SA/Test 3: | AH7: 46499 | AK7: SA/Test 4: | AL7: 46539 | AO7: SA/Test 5: | AP7: 46318 | AS7: SA/Test 6: | AT7: 46399 | AW7: SA/Test 7: | AX7: 46499 | BA7: SA/Test 8: | BB7: 46539 | BE7: Extra-Teilnoten (z.B. Semesterprüfungen, sonstiges)
A8: Nummer | B8: ST/AHS? | C8: SchülerIn | D8: Notengebung | E8: Status (1-7) | F8: Teilnoten | G8: % 0.0 | H8: % 1.0 | I8: % 2.0 | J8: % 3.0 | K8: % 4.0 | L8: ∑ 0.0 | M8: ∑ 1.0 | N8: ∑ 2.0 | O8: ∑ 3.0 | P8: ∑ 4.0 | Q8: MA mündl. | R8: MA schr. | S8: Hüs | T8: LZKs | U8: MA mündl. | V8: MA schr. | W8: Hüs | X8: LZKs | Y8: Thema 1 | Z8: Thema 2 | AA8: Thema 3 | AB8: Thema 4 | AC8: Thema 1 | AD8: Thema 2 | AE8: Thema 3 | AF8: Thema 4 | AG8: Thema 1 | AH8: Thema 2 | AI8: Thema 3 | AJ8: Thema 4 | AK8: Thema 1 | AL8: Thema 2 | AM8: Thema 3 | AN8: Thema 4 | AO8: Thema 1 | AP8: Thema 2 | AQ8: Thema 3 | AR8: Thema 4 | AS8: Thema 1 | AT8: Thema 2 | AU8: Thema 3 | AV8: Thema 4 | AW8: Thema 1 | AX8: Thema 2 | AY8: Thema 3 | AZ8: Thema 4 | BA8: Thema 1 | BB8: Thema 2 | BC8: Thema 3 | BD8: Thema 4 | BE8: Extra 1 | BF8: Extra 2 | BG8: Extra 3 | BH8: Extra 4 | BI8: Extra 5 | BJ8: Extra 6
A9: 1 | B9: AHS | C9: Max Mustermann | D9: =IF(B9="AHS", IF(E9>5, "🙋 5 (AHS)", CHOOSE(E9, "1 (AHS)", "2 (AHS)", "3 (AHS)", "4 (AHS)", "5 (AHS)")), IF(E9<3, "🚀 1 (Standard)", CHOOSE(E9-2, "1 (Standard)", "2 (Standard)", "3 (Standard)", "4 (Standard)", "5 (Standard)")) ) -> 🙋 5 (AHS) | E9: =IF(AND(K9>=0.5,SUM(H9:I9)=0),1, IF(AND(SUM(J9:K9)>=0.75,SUM(H9)=0),2, IF(AND(SUM(J9:K9)>=0.5,SUM(I9:K9)>=0.75,G9=0),3, IF(AND(SUM(J9:K9)>=0.25,SUM(I9:K9)>=0.5,G9=0),4, IF(AND(SUM(I9:K9)>=0.75,G9<25),5,IF(SUM(H9:K9)>=0.75,6,7)))))) -> 7 | F9: =SUM(L9:P9) -> 0 | G9: =IFERROR(L9/F9,0) -> 0 | H9: =IFERROR(M9/F9,0) -> 0 | I9: =IFERROR(N9/F9,0) -> 0 | J9: =IFERROR(O9/F9,0) -> 0 | K9: =IFERROR(P9/F9,0) -> 0 | L9: =COUNTIFS($Q9:$T9,0)+IF($C$5>$C$4,COUNTIFS($U9:$X9,0),0)+COUNTIFS(Y9:BJ9,0) -> 0 | M9: =COUNTIFS($Q9:$T9,1)+IF($C$5>$C$4,COUNTIFS($U9:$X9,1),0)+COUNTIFS(Y9:BJ9,1) -> 0 | N9: =COUNTIFS($Q9:$T9,2)+IF($C$5>$C$4,COUNTIFS($U9:$X9,2),0)+COUNTIFS(Y9:BJ9,2) -> 0 | O9: =COUNTIFS($Q9:$T9,3)+IF($C$5>$C$4,COUNTIFS($U9:$X9,3),0)+COUNTIFS(Y9:BJ9,3) -> 0 | P9: =COUNTIFS($Q9:$T9,4)+IF($C$5>$C$4,COUNTIFS($U9:$X9,4),0)+COUNTIFS(Y9:BJ9,4) -> 0 | Q9: ='MA mündl.'!C12 | R9: ='MA schr.'!C12 | S9: =HÜs!C12 | T9: =LZKs!C12 | U9: ='MA mündl.'!E12 | V9: ='MA schr.'!E12 | W9: =HÜs!E12 | X9: =LZKs!E12
A10: 2 | B10: AHS | C10: Eva Musterfrau | D10: =IF(B10="AHS", IF(E10>5, "🙋 5 (AHS)", CHOOSE(E10, "1 (AHS)", "2 (AHS)", "3 (AHS)", "4 (AHS)", "5 (AHS)")), IF(E10<3, "🚀 1 (Standard)", CHOOSE(E10-2, "1 (Standard)", "2 (Standard)", "3 (Standard)", "4 (Standard)", "5 (Standard)")) ) -> 🙋 5 (AHS) | E10: =IF(AND(K10>=0.5,SUM(H10:I10)=0),1, IF(AND(SUM(J10:K10)>=0.75,SUM(H10)=0),2, IF(AND(SUM(J10:K10)>=0.5,SUM(I10:K10)>=0.75,G10=0),3, IF(AND(SUM(J10:K10)>=0.25,SUM(I10:K10)>=0.5,G10=0),4, IF(AND(SUM(I10:K10)>=0.75,G10<25),5,IF(SUM(H10:K10)>=0.75,6,7)))))) -> 7 | F10: =SUM(L10:P10) -> 0 | G10: =IFERROR(L10/F10,0) -> 0 | H10: =IFERROR(M10/F10,0) -> 0 | I10: =IFERROR(N10/F10,0) -> 0 | J10: =IFERROR(O10/F10,0) -> 0 | K10: =IFERROR(P10/F10,0) -> 0 | L10: =COUNTIFS($Q10:$T10,0)+IF($C$5>$C$4,COUNTIFS($U10:$X10,0),0)+COUNTIFS(Y10:BJ10,0) -> 0 | M10: =COUNTIFS($Q10:$T10,1)+IF($C$5>$C$4,COUNTIFS($U10:$X10,1),0)+COUNTIFS(Y10:BJ10,1) -> 0 | N10: =COUNTIFS($Q10:$T10,2)+IF($C$5>$C$4,COUNTIFS($U10:$X10,2),0)+COUNTIFS(Y10:BJ10,2) -> 0 | O10: =COUNTIFS($Q10:$T10,3)+IF($C$5>$C$4,COUNTIFS($U10:$X10,3),0)+COUNTIFS(Y10:BJ10,3) -> 0 | P10: =COUNTIFS($Q10:$T10,4)+IF($C$5>$C$4,COUNTIFS($U10:$X10,4),0)+COUNTIFS(Y10:BJ10,4) -> 0 | Q10: ='MA mündl.'!C13 | R10: ='MA schr.'!C13 | S10: =HÜs!C13 | T10: =LZKs!C13 | U10: ='MA mündl.'!E13 | V10: ='MA schr.'!E13 | W10: =HÜs!E13 | X10: =LZKs!E13
A11: 3 | C11: asdfl | D11: =IF(B11="AHS", IF(E11>5, "🙋 5 (AHS)", CHOOSE(E11, "1 (AHS)", "2 (AHS)", "3 (AHS)", "4 (AHS)", "5 (AHS)")), IF(E11<3, "🚀 1 (Standard)", CHOOSE(E11-2, "1 (Standard)", "2 (Standard)", "3 (Standard)", "4 (Standard)", "5 (Standard)")) ) -> 5 (Standard) | E11: =IF(AND(K11>=0.5,SUM(H11:I11)=0),1, IF(AND(SUM(J11:K11)>=0.75,SUM(H11)=0),2, IF(AND(SUM(J11:K11)>=0.5,SUM(I11:K11)>=0.75,G11=0),3, IF(AND(SUM(J11:K11)>=0.25,SUM(I11:K11)>=0.5,G11=0),4, IF(AND(SUM(I11:K11)>=0.75,G11<25),5,IF(SUM(H11:K11)>=0.75,6,7)))))) -> 7 | F11: =SUM(L11:P11) -> 0 | G11: =IFERROR(L11/F11,0) -> 0 | H11: =IFERROR(M11/F11,0) -> 0 | I11: =IFERROR(N11/F11,0) -> 0 | J11: =IFERROR(O11/F11,0) -> 0 | K11: =IFERROR(P11/F11,0) -> 0 | L11: =COUNTIFS($Q11:$T11,0)+IF($C$5>$C$4,COUNTIFS($U11:$X11,0),0)+COUNTIFS(Y11:BJ11,0) -> 0 | M11: =COUNTIFS($Q11:$T11,1)+IF($C$5>$C$4,COUNTIFS($U11:$X11,1),0)+COUNTIFS(Y11:BJ11,1) -> 0 | N11: =COUNTIFS($Q11:$T11,2)+IF($C$5>$C$4,COUNTIFS($U11:$X11,2),0)+COUNTIFS(Y11:BJ11,2) -> 0 | O11: =COUNTIFS($Q11:$T11,3)+IF($C$5>$C$4,COUNTIFS($U11:$X11,3),0)+COUNTIFS(Y11:BJ11,3) -> 0 | P11: =COUNTIFS($Q11:$T11,4)+IF($C$5>$C$4,COUNTIFS($U11:$X11,4),0)+COUNTIFS(Y11:BJ11,4) -> 0 | Q11: ='MA mündl.'!C14 | R11: ='MA schr.'!C14 | S11: =HÜs!C14 | T11: =LZKs!C14 | U11: ='MA mündl.'!E14 | V11: ='MA schr.'!E14 | W11: =HÜs!E14 | X11: =LZKs!E14
A12: 4 | D12: =IF(B12="AHS", IF(E12>5, "🙋 5 (AHS)", CHOOSE(E12, "1 (AHS)", "2 (AHS)", "3 (AHS)", "4 (AHS)", "5 (AHS)")), IF(E12<3, "🚀 1 (Standard)", CHOOSE(E12-2, "1 (Standard)", "2 (Standard)", "3 (Standard)", "4 (Standard)", "5 (Standard)")) ) -> 5 (Standard) | E12: =IF(AND(K12>=0.5,SUM(H12:I12)=0),1, IF(AND(SUM(J12:K12)>=0.75,SUM(H12)=0),2, IF(AND(SUM(J12:K12)>=0.5,SUM(I12:K12)>=0.75,G12=0),3, IF(AND(SUM(J12:K12)>=0.25,SUM(I12:K12)>=0.5,G12=0),4, IF(AND(SUM(I12:K12)>=0.75,G12<25),5,IF(SUM(H12:K12)>=0.75,6,7)))))) -> 7 | F12: =SUM(L12:P12) -> 0 | G12: =IFERROR(L12/F12,0) -> 0 | H12: =IFERROR(M12/F12,0) -> 0 | I12: =IFERROR(N12/F12,0) -> 0 | J12: =IFERROR(O12/F12,0) -> 0 | K12: =IFERROR(P12/F12,0) -> 0 | L12: =COUNTIFS($Q12:$T12,0)+IF($C$5>$C$4,COUNTIFS($U12:$X12,0),0)+COUNTIFS(Y12:BJ12,0) -> 0 | M12: =COUNTIFS($Q12:$T12,1)+IF($C$5>$C$4,COUNTIFS($U12:$X12,1),0)+COUNTIFS(Y12:BJ12,1) -> 0 | N12: =COUNTIFS($Q12:$T12,2)+IF($C$5>$C$4,COUNTIFS($U12:$X12,2),0)+COUNTIFS(Y12:BJ12,2) -> 0 | O12: =COUNTIFS($Q12:$T12,3)+IF($C$5>$C$4,COUNTIFS($U12:$X12,3),0)+COUNTIFS(Y12:BJ12,3) -> 0 | P12: =COUNTIFS($Q12:$T12,4)+IF($C$5>$C$4,COUNTIFS($U12:$X12,4),0)+COUNTIFS(Y12:BJ12,4) -> 0 | Q12: ='MA mündl.'!C15 | R12: ='MA schr.'!C15 | S12: =HÜs!C15 | T12: =LZKs!C15 | U12: ='MA mündl.'!E15 | V12: ='MA schr.'!E15 | W12: =HÜs!E15 | X12: =LZKs!E15
A13: 5 | D13: =IF(B13="AHS", IF(E13>5, "🙋 5 (AHS)", CHOOSE(E13, "1 (AHS)", "2 (AHS)", "3 (AHS)", "4 (AHS)", "5 (AHS)")), IF(E13<3, "🚀 1 (Standard)", CHOOSE(E13-2, "1 (Standard)", "2 (Standard)", "3 (Standard)", "4 (Standard)", "5 (Standard)")) ) -> 5 (Standard) | E13: =IF(AND(K13>=0.5,SUM(H13:I13)=0),1, IF(AND(SUM(J13:K13)>=0.75,SUM(H13)=0),2, IF(AND(SUM(J13:K13)>=0.5,SUM(I13:K13)>=0.75,G13=0),3, IF(AND(SUM(J13:K13)>=0.25,SUM(I13:K13)>=0.5,G13=0),4, IF(AND(SUM(I13:K13)>=0.75,G13<25),5,IF(SUM(H13:K13)>=0.75,6,7)))))) -> 7 | F13: =SUM(L13:P13) -> 0 | G13: =IFERROR(L13/F13,0) -> 0 | H13: =IFERROR(M13/F13,0) -> 0 | I13: =IFERROR(N13/F13,0) -> 0 | J13: =IFERROR(O13/F13,0) -> 0 | K13: =IFERROR(P13/F13,0) -> 0 | L13: =COUNTIFS($Q13:$T13,0)+IF($C$5>$C$4,COUNTIFS($U13:$X13,0),0)+COUNTIFS(Y13:BJ13,0) -> 0 | M13: =COUNTIFS($Q13:$T13,1)+IF($C$5>$C$4,COUNTIFS($U13:$X13,1),0)+COUNTIFS(Y13:BJ13,1) -> 0 | N13: =COUNTIFS($Q13:$T13,2)+IF($C$5>$C$4,COUNTIFS($U13:$X13,2),0)+COUNTIFS(Y13:BJ13,2) -> 0 | O13: =COUNTIFS($Q13:$T13,3)+IF($C$5>$C$4,COUNTIFS($U13:$X13,3),0)+COUNTIFS(Y13:BJ13,3) -> 0 | P13: =COUNTIFS($Q13:$T13,4)+IF($C$5>$C$4,COUNTIFS($U13:$X13,4),0)+COUNTIFS(Y13:BJ13,4) -> 0 | Q13: ='MA mündl.'!C16 | R13: ='MA schr.'!C16 | S13: =HÜs!C16 | T13: =LZKs!C16 | U13: ='MA mündl.'!E16 | V13: ='MA schr.'!E16 | W13: =HÜs!E16 | X13: =LZKs!E16
A14: 6 | D14: =IF(B14="AHS", IF(E14>5, "🙋 5 (AHS)", CHOOSE(E14, "1 (AHS)", "2 (AHS)", "3 (AHS)", "4 (AHS)", "5 (AHS)")), IF(E14<3, "🚀 1 (Standard)", CHOOSE(E14-2, "1 (Standard)", "2 (Standard)", "3 (Standard)", "4 (Standard)", "5 (Standard)")) ) -> 5 (Standard) | E14: =IF(AND(K14>=0.5,SUM(H14:I14)=0),1, IF(AND(SUM(J14:K14)>=0.75,SUM(H14)=0),2, IF(AND(SUM(J14:K14)>=0.5,SUM(I14:K14)>=0.75,G14=0),3, IF(AND(SUM(J14:K14)>=0.25,SUM(I14:K14)>=0.5,G14=0),4, IF(AND(SUM(I14:K14)>=0.75,G14<25),5,IF(SUM(H14:K14)>=0.75,6,7)))))) -> 7 | F14: =SUM(L14:P14) -> 0 | G14: =IFERROR(L14/F14,0) -> 0 | H14: =IFERROR(M14/F14,0) -> 0 | I14: =IFERROR(N14/F14,0) -> 0 | J14: =IFERROR(O14/F14,0) -> 0 | K14: =IFERROR(P14/F14,0) -> 0 | L14: =COUNTIFS($Q14:$T14,0)+IF($C$5>$C$4,COUNTIFS($U14:$X14,0),0)+COUNTIFS(Y14:BJ14,0) -> 0 | M14: =COUNTIFS($Q14:$T14,1)+IF($C$5>$C$4,COUNTIFS($U14:$X14,1),0)+COUNTIFS(Y14:BJ14,1) -> 0 | N14: =COUNTIFS($Q14:$T14,2)+IF($C$5>$C$4,COUNTIFS($U14:$X14,2),0)+COUNTIFS(Y14:BJ14,2) -> 0 | O14: =COUNTIFS($Q14:$T14,3)+IF($C$5>$C$4,COUNTIFS($U14:$X14,3),0)+COUNTIFS(Y14:BJ14,3) -> 0 | P14: =COUNTIFS($Q14:$T14,4)+IF($C$5>$C$4,COUNTIFS($U14:$X14,4),0)+COUNTIFS(Y14:BJ14,4) -> 0 | Q14: ='MA mündl.'!C17 | R14: ='MA schr.'!C17 | S14: =HÜs!C17 | T14: =LZKs!C17 | U14: ='MA mündl.'!E17 | V14: ='MA schr.'!E17 | W14: =HÜs!E17 | X14: =LZKs!E17
A15: 7 | D15: =IF(B15="AHS", IF(E15>5, "🙋 5 (AHS)", CHOOSE(E15, "1 (AHS)", "2 (AHS)", "3 (AHS)", "4 (AHS)", "5 (AHS)")), IF(E15<3, "🚀 1 (Standard)", CHOOSE(E15-2, "1 (Standard)", "2 (Standard)", "3 (Standard)", "4 (Standard)", "5 (Standard)")) ) -> 5 (Standard) | E15: =IF(AND(K15>=0.5,SUM(H15:I15)=0),1, IF(AND(SUM(J15:K15)>=0.75,SUM(H15)=0),2, IF(AND(SUM(J15:K15)>=0.5,SUM(I15:K15)>=0.75,G15=0),3, IF(AND(SUM(J15:K15)>=0.25,SUM(I15:K15)>=0.5,G15=0),4, IF(AND(SUM(I15:K15)>=0.75,G15<25),5,IF(SUM(H15:K15)>=0.75,6,7)))))) -> 7 | F15: =SUM(L15:P15) -> 0 | G15: =IFERROR(L15/F15,0) -> 0 | H15: =IFERROR(M15/F15,0) -> 0 | I15: =IFERROR(N15/F15,0) -> 0 | J15: =IFERROR(O15/F15,0) -> 0 | K15: =IFERROR(P15/F15,0) -> 0 | L15: =COUNTIFS($Q15:$T15,0)+IF($C$5>$C$4,COUNTIFS($U15:$X15,0),0)+COUNTIFS(Y15:BJ15,0) -> 0 | M15: =COUNTIFS($Q15:$T15,1)+IF($C$5>$C$4,COUNTIFS($U15:$X15,1),0)+COUNTIFS(Y15:BJ15,1) -> 0 | N15: =COUNTIFS($Q15:$T15,2)+IF($C$5>$C$4,COUNTIFS($U15:$X15,2),0)+COUNTIFS(Y15:BJ15,2) -> 0 | O15: =COUNTIFS($Q15:$T15,3)+IF($C$5>$C$4,COUNTIFS($U15:$X15,3),0)+COUNTIFS(Y15:BJ15,3) -> 0 | P15: =COUNTIFS($Q15:$T15,4)+IF($C$5>$C$4,COUNTIFS($U15:$X15,4),0)+COUNTIFS(Y15:BJ15,4) -> 0 | Q15: ='MA mündl.'!C18 | R15: ='MA schr.'!C18 | S15: =HÜs!C18 | T15: =LZKs!C18 | U15: ='MA mündl.'!E18 | V15: ='MA schr.'!E18 | W15: =HÜs!E18 | X15: =LZKs!E18
A16: 8 | D16: =IF(B16="AHS", IF(E16>5, "🙋 5 (AHS)", CHOOSE(E16, "1 (AHS)", "2 (AHS)", "3 (AHS)", "4 (AHS)", "5 (AHS)")), IF(E16<3, "🚀 1 (Standard)", CHOOSE(E16-2, "1 (Standard)", "2 (Standard)", "3 (Standard)", "4 (Standard)", "5 (Standard)")) ) -> 5 (Standard) | E16: =IF(AND(K16>=0.5,SUM(H16:I16)=0),1, IF(AND(SUM(J16:K16)>=0.75,SUM(H16)=0),2, IF(AND(SUM(J16:K16)>=0.5,SUM(I16:K16)>=0.75,G16=0),3, IF(AND(SUM(J16:K16)>=0.25,SUM(I16:K16)>=0.5,G16=0),4, IF(AND(SUM(I16:K16)>=0.75,G16<25),5,IF(SUM(H16:K16)>=0.75,6,7)))))) -> 7 | F16: =SUM(L16:P16) -> 0 | G16: =IFERROR(L16/F16,0) -> 0 | H16: =IFERROR(M16/F16,0) -> 0 | I16: =IFERROR(N16/F16,0) -> 0 | J16: =IFERROR(O16/F16,0) -> 0 | K16: =IFERROR(P16/F16,0) -> 0 | L16: =COUNTIFS($Q16:$T16,0)+IF($C$5>$C$4,COUNTIFS($U16:$X16,0),0)+COUNTIFS(Y16:BJ16,0) -> 0 | M16: =COUNTIFS($Q16:$T16,1)+IF($C$5>$C$4,COUNTIFS($U16:$X16,1),0)+COUNTIFS(Y16:BJ16,1) -> 0 | N16: =COUNTIFS($Q16:$T16,2)+IF($C$5>$C$4,COUNTIFS($U16:$X16,2),0)+COUNTIFS(Y16:BJ16,2) -> 0 | O16: =COUNTIFS($Q16:$T16,3)+IF($C$5>$C$4,COUNTIFS($U16:$X16,3),0)+COUNTIFS(Y16:BJ16,3) -> 0 | P16: =COUNTIFS($Q16:$T16,4)+IF($C$5>$C$4,COUNTIFS($U16:$X16,4),0)+COUNTIFS(Y16:BJ16,4) -> 0 | Q16: ='MA mündl.'!C19 | R16: ='MA schr.'!C19 | S16: =HÜs!C19 | T16: =LZKs!C19 | U16: ='MA mündl.'!E19 | V16: ='MA schr.'!E19 | W16: =HÜs!E19 | X16: =LZKs!E19
A17: 9 | D17: =IF(B17="AHS", IF(E17>5, "🙋 5 (AHS)", CHOOSE(E17, "1 (AHS)", "2 (AHS)", "3 (AHS)", "4 (AHS)", "5 (AHS)")), IF(E17<3, "🚀 1 (Standard)", CHOOSE(E17-2, "1 (Standard)", "2 (Standard)", "3 (Standard)", "4 (Standard)", "5 (Standard)")) ) -> 5 (Standard) | E17: =IF(AND(K17>=0.5,SUM(H17:I17)=0),1, IF(AND(SUM(J17:K17)>=0.75,SUM(H17)=0),2, IF(AND(SUM(J17:K17)>=0.5,SUM(I17:K17)>=0.75,G17=0),3, IF(AND(SUM(J17:K17)>=0.25,SUM(I17:K17)>=0.5,G17=0),4, IF(AND(SUM(I17:K17)>=0.75,G17<25),5,IF(SUM(H17:K17)>=0.75,6,7)))))) -> 7 | F17: =SUM(L17:P17) -> 0 | G17: =IFERROR(L17/F17,0) -> 0 | H17: =IFERROR(M17/F17,0) -> 0 | I17: =IFERROR(N17/F17,0) -> 0 | J17: =IFERROR(O17/F17,0) -> 0 | K17: =IFERROR(P17/F17,0) -> 0 | L17: =COUNTIFS($Q17:$T17,0)+IF($C$5>$C$4,COUNTIFS($U17:$X17,0),0)+COUNTIFS(Y17:BJ17,0) -> 0 | M17: =COUNTIFS($Q17:$T17,1)+IF($C$5>$C$4,COUNTIFS($U17:$X17,1),0)+COUNTIFS(Y17:BJ17,1) -> 0 | N17: =COUNTIFS($Q17:$T17,2)+IF($C$5>$C$4,COUNTIFS($U17:$X17,2),0)+COUNTIFS(Y17:BJ17,2) -> 0 | O17: =COUNTIFS($Q17:$T17,3)+IF($C$5>$C$4,COUNTIFS($U17:$X17,3),0)+COUNTIFS(Y17:BJ17,3) -> 0 | P17: =COUNTIFS($Q17:$T17,4)+IF($C$5>$C$4,COUNTIFS($U17:$X17,4),0)+COUNTIFS(Y17:BJ17,4) -> 0 | Q17: ='MA mündl.'!C20 | R17: ='MA schr.'!C20 | S17: =HÜs!C20 | T17: =LZKs!C20 | U17: ='MA mündl.'!E20 | V17: ='MA schr.'!E20 | W17: =HÜs!E20 | X17: =LZKs!E20
A18: 10 | D18: =IF(B18="AHS", IF(E18>5, "🙋 5 (AHS)", CHOOSE(E18, "1 (AHS)", "2 (AHS)", "3 (AHS)", "4 (AHS)", "5 (AHS)")), IF(E18<3, "🚀 1 (Standard)", CHOOSE(E18-2, "1 (Standard)", "2 (Standard)", "3 (Standard)", "4 (Standard)", "5 (Standard)")) ) -> 5 (Standard) | E18: =IF(AND(K18>=0.5,SUM(H18:I18)=0),1, IF(AND(SUM(J18:K18)>=0.75,SUM(H18)=0),2, IF(AND(SUM(J18:K18)>=0.5,SUM(I18:K18)>=0.75,G18=0),3, IF(AND(SUM(J18:K18)>=0.25,SUM(I18:K18)>=0.5,G18=0),4, IF(AND(SUM(I18:K18)>=0.75,G18<25),5,IF(SUM(H18:K18)>=0.75,6,7)))))) -> 7 | F18: =SUM(L18:P18) -> 0 | G18: =IFERROR(L18/F18,0) -> 0 | H18: =IFERROR(M18/F18,0) -> 0 | I18: =IFERROR(N18/F18,0) -> 0 | J18: =IFERROR(O18/F18,0) -> 0 | K18: =IFERROR(P18/F18,0) -> 0 | L18: =COUNTIFS($Q18:$T18,0)+IF($C$5>$C$4,COUNTIFS($U18:$X18,0),0)+COUNTIFS(Y18:BJ18,0) -> 0 | M18: =COUNTIFS($Q18:$T18,1)+IF($C$5>$C$4,COUNTIFS($U18:$X18,1),0)+COUNTIFS(Y18:BJ18,1) -> 0 | N18: =COUNTIFS($Q18:$T18,2)+IF($C$5>$C$4,COUNTIFS($U18:$X18,2),0)+COUNTIFS(Y18:BJ18,2) -> 0 | O18: =COUNTIFS($Q18:$T18,3)+IF($C$5>$C$4,COUNTIFS($U18:$X18,3),0)+COUNTIFS(Y18:BJ18,3) -> 0 | P18: =COUNTIFS($Q18:$T18,4)+IF($C$5>$C$4,COUNTIFS($U18:$X18,4),0)+COUNTIFS(Y18:BJ18,4) -> 0 | Q18: ='MA mündl.'!C21 | R18: ='MA schr.'!C21 | S18: =HÜs!C21 | T18: =LZKs!C21 | U18: ='MA mündl.'!E21 | V18: ='MA schr.'!E21 | W18: =HÜs!E21 | X18: =LZKs!E21
A19: 11 | D19: =IF(B19="AHS", IF(E19>5, "🙋 5 (AHS)", CHOOSE(E19, "1 (AHS)", "2 (AHS)", "3 (AHS)", "4 (AHS)", "5 (AHS)")), IF(E19<3, "🚀 1 (Standard)", CHOOSE(E19-2, "1 (Standard)", "2 (Standard)", "3 (Standard)", "4 (Standard)", "5 (Standard)")) ) -> 5 (Standard) | E19: =IF(AND(K19>=0.5,SUM(H19:I19)=0),1, IF(AND(SUM(J19:K19)>=0.75,SUM(H19)=0),2, IF(AND(SUM(J19:K19)>=0.5,SUM(I19:K19)>=0.75,G19=0),3, IF(AND(SUM(J19:K19)>=0.25,SUM(I19:K19)>=0.5,G19=0),4, IF(AND(SUM(I19:K19)>=0.75,G19<25),5,IF(SUM(H19:K19)>=0.75,6,7)))))) -> 7 | F19: =SUM(L19:P19) -> 0 | G19: =IFERROR(L19/F19,0) -> 0 | H19: =IFERROR(M19/F19,0) -> 0 | I19: =IFERROR(N19/F19,0) -> 0 | J19: =IFERROR(O19/F19,0) -> 0 | K19: =IFERROR(P19/F19,0) -> 0 | L19: =COUNTIFS($Q19:$T19,0)+IF($C$5>$C$4,COUNTIFS($U19:$X19,0),0)+COUNTIFS(Y19:BJ19,0) -> 0 | M19: =COUNTIFS($Q19:$T19,1)+IF($C$5>$C$4,COUNTIFS($U19:$X19,1),0)+COUNTIFS(Y19:BJ19,1) -> 0 | N19: =COUNTIFS($Q19:$T19,2)+IF($C$5>$C$4,COUNTIFS($U19:$X19,2),0)+COUNTIFS(Y19:BJ19,2) -> 0 | O19: =COUNTIFS($Q19:$T19,3)+IF($C$5>$C$4,COUNTIFS($U19:$X19,3),0)+COUNTIFS(Y19:BJ19,3) -> 0 | P19: =COUNTIFS($Q19:$T19,4)+IF($C$5>$C$4,COUNTIFS($U19:$X19,4),0)+COUNTIFS(Y19:BJ19,4) -> 0 | Q19: ='MA mündl.'!C22 | R19: ='MA schr.'!C22 | S19: =HÜs!C22 | T19: =LZKs!C22 | U19: ='MA mündl.'!E22 | V19: ='MA schr.'!E22 | W19: =HÜs!E22 | X19: =LZKs!E22
A20: 12 | D20: =IF(B20="AHS", IF(E20>5, "🙋 5 (AHS)", CHOOSE(E20, "1 (AHS)", "2 (AHS)", "3 (AHS)", "4 (AHS)", "5 (AHS)")), IF(E20<3, "🚀 1 (Standard)", CHOOSE(E20-2, "1 (Standard)", "2 (Standard)", "3 (Standard)", "4 (Standard)", "5 (Standard)")) ) -> 5 (Standard) | E20: =IF(AND(K20>=0.5,SUM(H20:I20)=0),1, IF(AND(SUM(J20:K20)>=0.75,SUM(H20)=0),2, IF(AND(SUM(J20:K20)>=0.5,SUM(I20:K20)>=0.75,G20=0),3, IF(AND(SUM(J20:K20)>=0.25,SUM(I20:K20)>=0.5,G20=0),4, IF(AND(SUM(I20:K20)>=0.75,G20<25),5,IF(SUM(H20:K20)>=0.75,6,7)))))) -> 7 | F20: =SUM(L20:P20) -> 0 | G20: =IFERROR(L20/F20,0) -> 0 | H20: =IFERROR(M20/F20,0) -> 0 | I20: =IFERROR(N20/F20,0) -> 0 | J20: =IFERROR(O20/F20,0) -> 0 | K20: =IFERROR(P20/F20,0) -> 0 | L20: =COUNTIFS($Q20:$T20,0)+IF($C$5>$C$4,COUNTIFS($U20:$X20,0),0)+COUNTIFS(Y20:BJ20,0) -> 0 | M20: =COUNTIFS($Q20:$T20,1)+IF($C$5>$C$4,COUNTIFS($U20:$X20,1),0)+COUNTIFS(Y20:BJ20,1) -> 0 | N20: =COUNTIFS($Q20:$T20,2)+IF($C$5>$C$4,COUNTIFS($U20:$X20,2),0)+COUNTIFS(Y20:BJ20,2) -> 0 | O20: =COUNTIFS($Q20:$T20,3)+IF($C$5>$C$4,COUNTIFS($U20:$X20,3),0)+COUNTIFS(Y20:BJ20,3) -> 0 | P20: =COUNTIFS($Q20:$T20,4)+IF($C$5>$C$4,COUNTIFS($U20:$X20,4),0)+COUNTIFS(Y20:BJ20,4) -> 0 | Q20: ='MA mündl.'!C23 | R20: ='MA schr.'!C23 | S20: =HÜs!C23 | T20: =LZKs!C23 | U20: ='MA mündl.'!E23 | V20: ='MA schr.'!E23 | W20: =HÜs!E23 | X20: =LZKs!E23
A21: 13 | D21: =IF(B21="AHS", IF(E21>5, "🙋 5 (AHS)", CHOOSE(E21, "1 (AHS)", "2 (AHS)", "3 (AHS)", "4 (AHS)", "5 (AHS)")), IF(E21<3, "🚀 1 (Standard)", CHOOSE(E21-2, "1 (Standard)", "2 (Standard)", "3 (Standard)", "4 (Standard)", "5 (Standard)")) ) -> 5 (Standard) | E21: =IF(AND(K21>=0.5,SUM(H21:I21)=0),1, IF(AND(SUM(J21:K21)>=0.75,SUM(H21)=0),2, IF(AND(SUM(J21:K21)>=0.5,SUM(I21:K21)>=0.75,G21=0),3, IF(AND(SUM(J21:K21)>=0.25,SUM(I21:K21)>=0.5,G21=0),4, IF(AND(SUM(I21:K21)>=0.75,G21<25),5,IF(SUM(H21:K21)>=0.75,6,7)))))) -> 7 | F21: =SUM(L21:P21) -> 0 | G21: =IFERROR(L21/F21,0) -> 0 | H21: =IFERROR(M21/F21,0) -> 0 | I21: =IFERROR(N21/F21,0) -> 0 | J21: =IFERROR(O21/F21,0) -> 0 | K21: =IFERROR(P21/F21,0) -> 0 | L21: =COUNTIFS($Q21:$T21,0)+IF($C$5>$C$4,COUNTIFS($U21:$X21,0),0)+COUNTIFS(Y21:BJ21,0) -> 0 | M21: =COUNTIFS($Q21:$T21,1)+IF($C$5>$C$4,COUNTIFS($U21:$X21,1),0)+COUNTIFS(Y21:BJ21,1) -> 0 | N21: =COUNTIFS($Q21:$T21,2)+IF($C$5>$C$4,COUNTIFS($U21:$X21,2),0)+COUNTIFS(Y21:BJ21,2) -> 0 | O21: =COUNTIFS($Q21:$T21,3)+IF($C$5>$C$4,COUNTIFS($U21:$X21,3),0)+COUNTIFS(Y21:BJ21,3) -> 0 | P21: =COUNTIFS($Q21:$T21,4)+IF($C$5>$C$4,COUNTIFS($U21:$X21,4),0)+COUNTIFS(Y21:BJ21,4) -> 0 | Q21: ='MA mündl.'!C24 | R21: ='MA schr.'!C24 | S21: =HÜs!C24 | T21: =LZKs!C24 | U21: ='MA mündl.'!E24 | V21: ='MA schr.'!E24 | W21: =HÜs!E24 | X21: =LZKs!E24
A22: 14 | D22: =IF(B22="AHS", IF(E22>5, "🙋 5 (AHS)", CHOOSE(E22, "1 (AHS)", "2 (AHS)", "3 (AHS)", "4 (AHS)", "5 (AHS)")), IF(E22<3, "🚀 1 (Standard)", CHOOSE(E22-2, "1 (Standard)", "2 (Standard)", "3 (Standard)", "4 (Standard)", "5 (Standard)")) ) -> 5 (Standard) | E22: =IF(AND(K22>=0.5,SUM(H22:I22)=0),1, IF(AND(SUM(J22:K22)>=0.75,SUM(H22)=0),2, IF(AND(SUM(J22:K22)>=0.5,SUM(I22:K22)>=0.75,G22=0),3, IF(AND(SUM(J22:K22)>=0.25,SUM(I22:K22)>=0.5,G22=0),4, IF(AND(SUM(I22:K22)>=0.75,G22<25),5,IF(SUM(H22:K22)>=0.75,6,7)))))) -> 7 | F22: =SUM(L22:P22) -> 0 | G22: =IFERROR(L22/F22,0) -> 0 | H22: =IFERROR(M22/F22,0) -> 0 | I22: =IFERROR(N22/F22,0) -> 0 | J22: =IFERROR(O22/F22,0) -> 0 | K22: =IFERROR(P22/F22,0) -> 0 | L22: =COUNTIFS($Q22:$T22,0)+IF($C$5>$C$4,COUNTIFS($U22:$X22,0),0)+COUNTIFS(Y22:BJ22,0) -> 0 | M22: =COUNTIFS($Q22:$T22,1)+IF($C$5>$C$4,COUNTIFS($U22:$X22,1),0)+COUNTIFS(Y22:BJ22,1) -> 0 | N22: =COUNTIFS($Q22:$T22,2)+IF($C$5>$C$4,COUNTIFS($U22:$X22,2),0)+COUNTIFS(Y22:BJ22,2) -> 0 | O22: =COUNTIFS($Q22:$T22,3)+IF($C$5>$C$4,COUNTIFS($U22:$X22,3),0)+COUNTIFS(Y22:BJ22,3) -> 0 | P22: =COUNTIFS($Q22:$T22,4)+IF($C$5>$C$4,COUNTIFS($U22:$X22,4),0)+COUNTIFS(Y22:BJ22,4) -> 0 | Q22: ='MA mündl.'!C25 | R22: ='MA schr.'!C25 | S22: =HÜs!C25 | T22: =LZKs!C25 | U22: ='MA mündl.'!E25 | V22: ='MA schr.'!E25 | W22: =HÜs!E25 | X22: =LZKs!E25
A23: 15 | D23: =IF(B23="AHS", IF(E23>5, "🙋 5 (AHS)", CHOOSE(E23, "1 (AHS)", "2 (AHS)", "3 (AHS)", "4 (AHS)", "5 (AHS)")), IF(E23<3, "🚀 1 (Standard)", CHOOSE(E23-2, "1 (Standard)", "2 (Standard)", "3 (Standard)", "4 (Standard)", "5 (Standard)")) ) -> 5 (Standard) | E23: =IF(AND(K23>=0.5,SUM(H23:I23)=0),1, IF(AND(SUM(J23:K23)>=0.75,SUM(H23)=0),2, IF(AND(SUM(J23:K23)>=0.5,SUM(I23:K23)>=0.75,G23=0),3, IF(AND(SUM(J23:K23)>=0.25,SUM(I23:K23)>=0.5,G23=0),4, IF(AND(SUM(I23:K23)>=0.75,G23<25),5,IF(SUM(H23:K23)>=0.75,6,7)))))) -> 7 | F23: =SUM(L23:P23) -> 0 | G23: =IFERROR(L23/F23,0) -> 0 | H23: =IFERROR(M23/F23,0) -> 0 | I23: =IFERROR(N23/F23,0) -> 0 | J23: =IFERROR(O23/F23,0) -> 0 | K23: =IFERROR(P23/F23,0) -> 0 | L23: =COUNTIFS($Q23:$T23,0)+IF($C$5>$C$4,COUNTIFS($U23:$X23,0),0)+COUNTIFS(Y23:BJ23,0) -> 0 | M23: =COUNTIFS($Q23:$T23,1)+IF($C$5>$C$4,COUNTIFS($U23:$X23,1),0)+COUNTIFS(Y23:BJ23,1) -> 0 | N23: =COUNTIFS($Q23:$T23,2)+IF($C$5>$C$4,COUNTIFS($U23:$X23,2),0)+COUNTIFS(Y23:BJ23,2) -> 0 | O23: =COUNTIFS($Q23:$T23,3)+IF($C$5>$C$4,COUNTIFS($U23:$X23,3),0)+COUNTIFS(Y23:BJ23,3) -> 0 | P23: =COUNTIFS($Q23:$T23,4)+IF($C$5>$C$4,COUNTIFS($U23:$X23,4),0)+COUNTIFS(Y23:BJ23,4) -> 0 | Q23: ='MA mündl.'!C26 | R23: ='MA schr.'!C26 | S23: =HÜs!C26 | T23: =LZKs!C26 | U23: ='MA mündl.'!E26 | V23: ='MA schr.'!E26 | W23: =HÜs!E26 | X23: =LZKs!E26
... A43: 35 | D43: =IF(B43="AHS", IF(E43>5, "🙋 5 (AHS)", CHOOSE(E43, "1 (AHS)", "2 (AHS)", "3 (AHS)", "4 (AHS)", "5 (AHS)")), IF(E43<3, "🚀 1 (Standard)", CHOOSE(E43-2, "1 (Standard)", "2 (Standard)", "3 (Standard)", "4 (Standard)", "5 (Standard)")) ) -> 5 (Standard) | E43: =IF(AND(K43>=0.5,SUM(H43:I43)=0),1, IF(AND(SUM(J43:K43)>=0.75,SUM(H43)=0),2, IF(AND(SUM(J43:K43)>=0.5,SUM(I43:K43)>=0.75,G43=0),3, IF(AND(SUM(J43:K43)>=0.25,SUM(I43:K43)>=0.5,G43=0),4, IF(AND(SUM(I43:K43)>=0.75,G43<25),5,IF(SUM(H43:K43)>=0.75,6,7)))))) -> 7 | F43: =SUM(L43:P43) -> 0 | G43: =IFERROR(L43/F43,0) -> 0 | H43: =IFERROR(M43/F43,0) -> 0 | I43: =IFERROR(N43/F43,0) -> 0 | J43: =IFERROR(O43/F43,0) -> 0 | K43: =IFERROR(P43/F43,0) -> 0 | L43: =COUNTIFS($Q43:$T43,0)+IF($C$5>$C$4,COUNTIFS($U43:$X43,0),0)+COUNTIFS(Y43:BJ43,0) -> 0 | M43: =COUNTIFS($Q43:$T43,1)+IF($C$5>$C$4,COUNTIFS($U43:$X43,1),0)+COUNTIFS(Y43:BJ43,1) -> 0 | N43: =COUNTIFS($Q43:$T43,2)+IF($C$5>$C$4,COUNTIFS($U43:$X43,2),0)+COUNTIFS(Y43:BJ43,2) -> 0 | O43: =COUNTIFS($Q43:$T43,3)+IF($C$5>$C$4,COUNTIFS($U43:$X43,3),0)+COUNTIFS(Y43:BJ43,3) -> 0 | P43: =COUNTIFS($Q43:$T43,4)+IF($C$5>$C$4,COUNTIFS($U43:$X43,4),0)+COUNTIFS(Y43:BJ43,4) -> 0 | Q43: ='MA mündl.'!C46 | R43: ='MA schr.'!C46 | S43: =HÜs!C46 | T43: =LZKs!C46 | U43: ='MA mündl.'!E46 | V43: ='MA schr.'!E46 | W43: =HÜs!E46 | X43: =LZKs!E46
A46: © 2026 Niklas Baumgärtler
A47: Download: | B47: =HYPERLINK("https://www.bunterrichten.com/de/artikel/kostenlose-echtzeit-notenberechnung-in-der-40-skala-excel-fuer-nms-lehrerinnen-download-erklaer-video", "👉 Hier klicken für Download dieser Vorlage & Erklärvideo dazu!)") -> 👉 Hier klicken für Download dieser Vorlage & Erklärvideo dazu!)
A48: Nutzungshinweise: Diese Vorlage steht allen Lehrkräften kostenlos zur Verfügung und darf gerne untereinander geteilt werden. Die kommerzielle Weitergabe sowie das Entfernen des Copyright-Hinweises oder Links sind jedoch ausdrücklich untersagt!

Sheet MA mündl.
B1: Schuljahr | C1: =Übersicht!C1 -> 2026/27 | M1: ToDo: | N1: Jeweils 4.0 bis 0.0 mit Datum eintragen
B2: Fach/Klasse | C2: =Übersicht!C2 -> M - 4a | M2: Legende: | N2: + | O2: 4.0
B3: LehrerInnen | C3: =Übersicht!C3 -> Niklas Baumgärtler, Anna Maier | F3: Für Erklärung und Kontrolle der Zahlen | N3: #+ | O3: 3.0
F4: oben mit +/- Button auf/zuklappen! | N4: # | O4: 2.0
B5: Datum heute | C5: =TODAY() -> 46240 | N5: #- | O5: 1.0
B6: Semesterschluss | C6: =Übersicht!C4 -> 46429 | N6: - | O6: 0.0
M7: Hinweise | N7: Es reicht, "4" alleine als Zahl einzugeben, Excel macht dann automatisch ein 4.0 und berechnet den Rest selbstständig. Ein "k" steht für krank.
N8: Hat jemand eine besonders gute Leistung erbracht, kann z.B. ein 8.0 (Doppel-Plus) oder auch ein 6.0 eingetragen werden, das bessert vorherige schlechtere Ergebnisse entsprechend aus!
GG10: ACHTUNG: hier endet die automatische Berechnung! Falls noch mehr Einträge benötigt werden, müssen die Formeln entsprechend erweitert werden!
A11: Nummer | B11: SchülerIn | C11: 1. Sem. | D11: Ø 1. Sem. | E11: 2. Semester | F11: Ø 2. Sem. | G11: ∑ 1. Sem. | H11: Anz. 1. Sem. | I11: ∑ 2. Sem. | J11: Anz. 2. Sem. | K11: 46277 | L11: 46280 | M11: 46287 | N11: 46470 | O11: 46471 | P11: 46472 | GG11: LETZTES DATUM
A12: =IF(B12<>"",Übersicht!A9,"") -> 1 | B12: =IF(Übersicht!C9<>"",Übersicht!C9,"") -> Max Mustermann | C12: =IFERROR(MIN(4,ROUND(D12,0)),"") | D12: =IFERROR(G12/H12,"") | E12: =IFERROR(MIN(4,ROUND(F12,0)),"") | F12: =IFERROR(I12/J12,"") | G12: =IFERROR(IF(B12<>"",SUMIFS(K12:GG12, $K$11:$GG$11, "<="&$C$6),""),"") -> 0 | H12: =IFERROR(IF(B12<>"",COUNTIFS($K$11:$GG$11, "<="&$C$6, K12:GG12, "<>", K12:GG12, "<>k"),""),"") -> 0 | I12: =IFERROR(IF(B12<>"",SUMIFS(K12:GG12, $K$11:$GG$11, ">"&$C$6),""),"") -> 0 | J12: =IFERROR(IF(B12<>"", COUNTIFS($K$11:$GG$11, ">"&$C$6, K12:GG12, "<>", K12:GG12, "<>k"), ""), "") -> 0
A13: =IF(B13<>"",Übersicht!A10,"") -> 2 | B13: =IF(Übersicht!C10<>"",Übersicht!C10,"") -> Eva Musterfrau | C13: =IFERROR(MIN(4,ROUND(D13,0)),"") | D13: =IFERROR(G13/H13,"") | E13: =IFERROR(MIN(4,ROUND(F13,0)),"") | F13: =IFERROR(I13/J13,"") | G13: =IFERROR(IF(B13<>"",SUMIFS(K13:GG13, $K$11:$GG$11, "<="&$C$6),""),"") -> 0 | H13: =IFERROR(IF(B13<>"",COUNTIFS($K$11:$GG$11, "<="&$C$6, K13:GG13, "<>", K13:GG13, "<>k"),""),"") -> 0 | I13: =IFERROR(IF(B13<>"",SUMIFS(K13:GG13, $K$11:$GG$11, ">"&$C$6),""),"") -> 0 | J13: =IFERROR(IF(B13<>"", COUNTIFS($K$11:$GG$11, ">"&$C$6, K13:GG13, "<>", K13:GG13, "<>k"), ""), "") -> 0
A14: =IF(B14<>"",Übersicht!A11,"") -> 3 | B14: =IF(Übersicht!C11<>"",Übersicht!C11,"") -> asdfl | C14: =IFERROR(MIN(4,ROUND(D14,0)),"") | D14: =IFERROR(G14/H14,"") | E14: =IFERROR(MIN(4,ROUND(F14,0)),"") | F14: =IFERROR(I14/J14,"") | G14: =IFERROR(IF(B14<>"",SUMIFS(K14:GG14, $K$11:$GG$11, "<="&$C$6),""),"") -> 0 | H14: =IFERROR(IF(B14<>"",COUNTIFS($K$11:$GG$11, "<="&$C$6, K14:GG14, "<>", K14:GG14, "<>k"),""),"") -> 0 | I14: =IFERROR(IF(B14<>"",SUMIFS(K14:GG14, $K$11:$GG$11, ">"&$C$6),""),"") -> 0 | J14: =IFERROR(IF(B14<>"", COUNTIFS($K$11:$GG$11, ">"&$C$6, K14:GG14, "<>", K14:GG14, "<>k"), ""), "") -> 0
A15: =IF(B15<>"",Übersicht!A12,"") | B15: =IF(Übersicht!C12<>"",Übersicht!C12,"") | C15: =IFERROR(MIN(4,ROUND(D15,0)),"") | D15: =IFERROR(G15/H15,"") | E15: =IFERROR(MIN(4,ROUND(F15,0)),"") | F15: =IFERROR(I15/J15,"") | G15: =IFERROR(IF(B15<>"",SUMIFS(K15:GG15, $K$11:$GG$11, "<="&$C$6),""),"") | H15: =IFERROR(IF(B15<>"",COUNTIFS($K$11:$GG$11, "<="&$C$6, K15:GG15, "<>", K15:GG15, "<>k"),""),"") | I15: =IFERROR(IF(B15<>"",SUMIFS(K15:GG15, $K$11:$GG$11, ">"&$C$6),""),"") | J15: =IFERROR(IF(B15<>"", COUNTIFS($K$11:$GG$11, ">"&$C$6, K15:GG15, "<>", K15:GG15, "<>k"), ""), "")
A16: =IF(B16<>"",Übersicht!A13,"") | B16: =IF(Übersicht!C13<>"",Übersicht!C13,"") | C16: =IFERROR(MIN(4,ROUND(D16,0)),"") | D16: =IFERROR(G16/H16,"") | E16: =IFERROR(MIN(4,ROUND(F16,0)),"") | F16: =IFERROR(I16/J16,"") | G16: =IFERROR(IF(B16<>"",SUMIFS(K16:GG16, $K$11:$GG$11, "<="&$C$6),""),"") | H16: =IFERROR(IF(B16<>"",COUNTIFS($K$11:$GG$11, "<="&$C$6, K16:GG16, "<>", K16:GG16, "<>k"),""),"") | I16: =IFERROR(IF(B16<>"",SUMIFS(K16:GG16, $K$11:$GG$11, ">"&$C$6),""),"") | J16: =IFERROR(IF(B16<>"", COUNTIFS($K$11:$GG$11, ">"&$C$6, K16:GG16, "<>", K16:GG16, "<>k"), ""), "")
A17: =IF(B17<>"",Übersicht!A14,"") | B17: =IF(Übersicht!C14<>"",Übersicht!C14,"") | C17: =IFERROR(MIN(4,ROUND(D17,0)),"") | D17: =IFERROR(G17/H17,"") | E17: =IFERROR(MIN(4,ROUND(F17,0)),"") | F17: =IFERROR(I17/J17,"") | G17: =IFERROR(IF(B17<>"",SUMIFS(K17:GG17, $K$11:$GG$11, "<="&$C$6),""),"") | H17: =IFERROR(IF(B17<>"",COUNTIFS($K$11:$GG$11, "<="&$C$6, K17:GG17, "<>", K17:GG17, "<>k"),""),"") | I17: =IFERROR(IF(B17<>"",SUMIFS(K17:GG17, $K$11:$GG$11, ">"&$C$6),""),"") | J17: =IFERROR(IF(B17<>"", COUNTIFS($K$11:$GG$11, ">"&$C$6, K17:GG17, "<>", K17:GG17, "<>k"), ""), "")
A18: =IF(B18<>"",Übersicht!A15,"") | B18: =IF(Übersicht!C15<>"",Übersicht!C15,"") | C18: =IFERROR(MIN(4,ROUND(D18,0)),"") | D18: =IFERROR(G18/H18,"") | E18: =IFERROR(MIN(4,ROUND(F18,0)),"") | F18: =IFERROR(I18/J18,"") | G18: =IFERROR(IF(B18<>"",SUMIFS(K18:GG18, $K$11:$GG$11, "<="&$C$6),""),"") | H18: =IFERROR(IF(B18<>"",COUNTIFS($K$11:$GG$11, "<="&$C$6, K18:GG18, "<>", K18:GG18, "<>k"),""),"") | I18: =IFERROR(IF(B18<>"",SUMIFS(K18:GG18, $K$11:$GG$11, ">"&$C$6),""),"") | J18: =IFERROR(IF(B18<>"", COUNTIFS($K$11:$GG$11, ">"&$C$6, K18:GG18, "<>", K18:GG18, "<>k"), ""), "")
A19: =IF(B19<>"",Übersicht!A16,"") | B19: =IF(Übersicht!C16<>"",Übersicht!C16,"") | C19: =IFERROR(MIN(4,ROUND(D19,0)),"") | D19: =IFERROR(G19/H19,"") | E19: =IFERROR(MIN(4,ROUND(F19,0)),"") | F19: =IFERROR(I19/J19,"") | G19: =IFERROR(IF(B19<>"",SUMIFS(K19:GG19, $K$11:$GG$11, "<="&$C$6),""),"") | H19: =IFERROR(IF(B19<>"",COUNTIFS($K$11:$GG$11, "<="&$C$6, K19:GG19, "<>", K19:GG19, "<>k"),""),"") | I19: =IFERROR(IF(B19<>"",SUMIFS(K19:GG19, $K$11:$GG$11, ">"&$C$6),""),"") | J19: =IFERROR(IF(B19<>"", COUNTIFS($K$11:$GG$11, ">"&$C$6, K19:GG19, "<>", K19:GG19, "<>k"), ""), "")
A20: =IF(B20<>"",Übersicht!A17,"") | B20: =IF(Übersicht!C17<>"",Übersicht!C17,"") | C20: =IFERROR(MIN(4,ROUND(D20,0)),"") | D20: =IFERROR(G20/H20,"") | E20: =IFERROR(MIN(4,ROUND(F20,0)),"") | F20: =IFERROR(I20/J20,"") | G20: =IFERROR(IF(B20<>"",SUMIFS(K20:GG20, $K$11:$GG$11, "<="&$C$6),""),"") | H20: =IFERROR(IF(B20<>"",COUNTIFS($K$11:$GG$11, "<="&$C$6, K20:GG20, "<>", K20:GG20, "<>k"),""),"") | I20: =IFERROR(IF(B20<>"",SUMIFS(K20:GG20, $K$11:$GG$11, ">"&$C$6),""),"") | J20: =IFERROR(IF(B20<>"", COUNTIFS($K$11:$GG$11, ">"&$C$6, K20:GG20, "<>", K20:GG20, "<>k"), ""), "")
A21: =IF(B21<>"",Übersicht!A18,"") | B21: =IF(Übersicht!C18<>"",Übersicht!C18,"") | C21: =IFERROR(MIN(4,ROUND(D21,0)),"") | D21: =IFERROR(G21/H21,"") | E21: =IFERROR(MIN(4,ROUND(F21,0)),"") | F21: =IFERROR(I21/J21,"") | G21: =IFERROR(IF(B21<>"",SUMIFS(K21:GG21, $K$11:$GG$11, "<="&$C$6),""),"") | H21: =IFERROR(IF(B21<>"",COUNTIFS($K$11:$GG$11, "<="&$C$6, K21:GG21, "<>", K21:GG21, "<>k"),""),"") | I21: =IFERROR(IF(B21<>"",SUMIFS(K21:GG21, $K$11:$GG$11, ">"&$C$6),""),"") | J21: =IFERROR(IF(B21<>"", COUNTIFS($K$11:$GG$11, ">"&$C$6, K21:GG21, "<>", K21:GG21, "<>k"), ""), "")
A22: =IF(B22<>"",Übersicht!A19,"") | B22: =IF(Übersicht!C19<>"",Übersicht!C19,"") | C22: =IFERROR(MIN(4,ROUND(D22,0)),"") | D22: =IFERROR(G22/H22,"") | E22: =IFERROR(MIN(4,ROUND(F22,0)),"") | F22: =IFERROR(I22/J22,"") | G22: =IFERROR(IF(B22<>"",SUMIFS(K22:GG22, $K$11:$GG$11, "<="&$C$6),""),"") | H22: =IFERROR(IF(B22<>"",COUNTIFS($K$11:$GG$11, "<="&$C$6, K22:GG22, "<>", K22:GG22, "<>k"),""),"") | I22: =IFERROR(IF(B22<>"",SUMIFS(K22:GG22, $K$11:$GG$11, ">"&$C$6),""),"") | J22: =IFERROR(IF(B22<>"", COUNTIFS($K$11:$GG$11, ">"&$C$6, K22:GG22, "<>", K22:GG22, "<>k"), ""), "")
A23: =IF(B23<>"",Übersicht!A20,"") | B23: =IF(Übersicht!C20<>"",Übersicht!C20,"") | C23: =IFERROR(MIN(4,ROUND(D23,0)),"") | D23: =IFERROR(G23/H23,"") | E23: =IFERROR(MIN(4,ROUND(F23,0)),"") | F23: =IFERROR(I23/J23,"") | G23: =IFERROR(IF(B23<>"",SUMIFS(K23:GG23, $K$11:$GG$11, "<="&$C$6),""),"") | H23: =IFERROR(IF(B23<>"",COUNTIFS($K$11:$GG$11, "<="&$C$6, K23:GG23, "<>", K23:GG23, "<>k"),""),"") | I23: =IFERROR(IF(B23<>"",SUMIFS(K23:GG23, $K$11:$GG$11, ">"&$C$6),""),"") | J23: =IFERROR(IF(B23<>"", COUNTIFS($K$11:$GG$11, ">"&$C$6, K23:GG23, "<>", K23:GG23, "<>k"), ""), "")
... A43: =IF(B43<>"",Übersicht!A40,"") | B43: =IF(Übersicht!C40<>"",Übersicht!C40,"") | C43: =IFERROR(MIN(4,ROUND(D43,0)),"") | D43: =IFERROR(G43/H43,"") | E43: =IFERROR(MIN(4,ROUND(F43,0)),"") | F43: =IFERROR(I43/J43,"") | G43: =IFERROR(IF(B43<>"",SUMIFS(K43:GG43, $K$11:$GG$11, "<="&$C$6),""),"") | H43: =IFERROR(IF(B43<>"",COUNTIFS($K$11:$GG$11, "<="&$C$6, K43:GG43, "<>", K43:GG43, "<>k"),""),"") | I43: =IFERROR(IF(B43<>"",SUMIFS(K43:GG43, $K$11:$GG$11, ">"&$C$6),""),"") | J43: =IFERROR(IF(B43<>"", COUNTIFS($K$11:$GG$11, ">"&$C$6, K43:GG43, "<>", K43:GG43, "<>k"), ""), "")
C44: =IFERROR(MIN(4,ROUND(D44,0)),"") | D44: =IFERROR(G44/H44,"") | E44: =IFERROR(MIN(4,ROUND(F44,0)),"") | F44: =IFERROR(I44/J44,"") | G44: =IFERROR(IF(B44<>"",SUMIFS(K44:GG44, $K$11:$GG$11, "<="&$C$6),""),"") | H44: =IFERROR(IF(B44<>"",COUNTIFS($K$11:$GG$11, "<="&$C$6, K44:GG44, "<>", K44:GG44, "<>k"),""),"") | I44: =IFERROR(IF(B44<>"",SUMIFS(K44:GG44, $K$11:$GG$11, ">"&$C$6),""),"") | J44: =IFERROR(IF(B44<>"", COUNTIFS($K$11:$GG$11, ">"&$C$6, K44:GG44, "<>", K44:GG44, "<>k"), ""), "")
C45: =IFERROR(MIN(4,ROUND(D45,0)),"") | D45: =IFERROR(G45/H45,"") | E45: =IFERROR(MIN(4,ROUND(F45,0)),"") | F45: =IFERROR(I45/J45,"") | G45: =IFERROR(IF(B45<>"",SUMIFS(K45:GG45, $K$11:$GG$11, "<="&$C$6),""),"") | H45: =IFERROR(IF(B45<>"",COUNTIFS($K$11:$GG$11, "<="&$C$6, K45:GG45, "<>", K45:GG45, "<>k"),""),"") | I45: =IFERROR(IF(B45<>"",SUMIFS(K45:GG45, $K$11:$GG$11, ">"&$C$6),""),"") | J45: =IFERROR(IF(B45<>"", COUNTIFS($K$11:$GG$11, ">"&$C$6, K45:GG45, "<>", K45:GG45, "<>k"), ""), "")
C46: =IFERROR(MIN(4,ROUND(D46,0)),"") | D46: =IFERROR(G46/H46,"") | E46: =IFERROR(ROUND(F46,0),"") | F46: =IFERROR(I46/J46,"") | G46: =IFERROR(IF(B46<>"",SUMIFS(K46:GG46, $K$11:$GG$11, "<="&$C$6),""),"") | H46: =IFERROR(IF(B46<>"",COUNTIFS($K$11:$GG$11, "<="&$C$6, K46:GG46, "<>"),""),"") | I46: =IFERROR(IF(B46<>"",SUMIFS(K46:GG46, $K$11:$GG$11, ">"&$C$6),""),"") | J46: =IFERROR(IF(B46<>"",COUNTIFS($K$11:$GG$11, ">"&$C$6, K46:GG46, "<>"),""),"")

Sheet MA schr.
B1: Schuljahr | C1: =Übersicht!C1 -> 2026/27 | M1: ToDo: | N1: Jeweils 4.0 bis 0.0 mit Datum eintragen
B2: Fach/Klasse | C2: =Übersicht!C2 -> M - 4a | M2: Legende: | N2: + | O2: 4.0
B3: LehrerInnen | C3: =Übersicht!C3 -> Niklas Baumgärtler, Anna Maier | F3: Für Erklärung und Kontrolle der Zahlen | N3: #+ | O3: 3.0
F4: oben mit +/- Button auf/zuklappen! | N4: # | O4: 2.0
B5: Datum heute | C5: =TODAY() -> 46240 | N5: #- | O5: 1.0
B6: Semesterschluss | C6: =Übersicht!C4 -> 46429 | N6: - | O6: 0.0
M7: Hinweise | N7: Es reicht, "4" alleine als Zahl einzugeben, Excel macht dann automatisch ein 4.0 und berechnet den Rest selbstständig. Ein "k" steht für krank.
N8: Hat jemand eine besonders gute Leistung erbracht, kann z.B. ein 8.0 (Doppel-Plus) oder auch ein 6.0 eingetragen werden, das bessert vorherige schlechtere Ergebnisse entsprechend aus!
GG10: ACHTUNG: hier endet die automatische Berechnung! Falls noch mehr Einträge benötigt werden, müssen die Formeln entsprechend erweitert werden!
A11: Nummer | B11: SchülerIn | C11: 1. Sem. | D11: Ø 1. Sem. | E11: 2. Semester | F11: Ø 2. Sem. | G11: ∑ 1. Sem. | H11: Anz. 1. Sem. | I11: ∑ 2. Sem. | J11: Anz. 2. Sem. | K11: 46277 | L11: 46280 | M11: 46287 | N11: 46470 | O11: 46471 | P11: 46472 | GG11: LETZTES DATUM
A12: =IF(B12<>"",Übersicht!A9,"") -> 1 | B12: =IF(Übersicht!C9<>"",Übersicht!C9,"") -> Max Mustermann | C12: =IFERROR(MIN(4,ROUND(D12,0)),"") | D12: =IFERROR(G12/H12,"") | E12: =IFERROR(MIN(4,ROUND(F12,0)),"") | F12: =IFERROR(I12/J12,"") | G12: =IFERROR(IF(B12<>"",SUMIFS(K12:GG12, $K$11:$GG$11, "<="&$C$6),""),"") -> 0 | H12: =IFERROR(IF(B12<>"",COUNTIFS($K$11:$GG$11, "<="&$C$6, K12:GG12, "<>", K12:GG12, "<>k"),""),"") -> 0 | I12: =IFERROR(IF(B12<>"",SUMIFS(K12:GG12, $K$11:$GG$11, ">"&$C$6),""),"") -> 0 | J12: =IFERROR(IF(B12<>"", COUNTIFS($K$11:$GG$11, ">"&$C$6, K12:GG12, "<>", K12:GG12, "<>k"), ""), "") -> 0
A13: =IF(B13<>"",Übersicht!A10,"") -> 2 | B13: =IF(Übersicht!C10<>"",Übersicht!C10,"") -> Eva Musterfrau | C13: =IFERROR(MIN(4,ROUND(D13,0)),"") | D13: =IFERROR(G13/H13,"") | E13: =IFERROR(MIN(4,ROUND(F13,0)),"") | F13: =IFERROR(I13/J13,"") | G13: =IFERROR(IF(B13<>"",SUMIFS(K13:GG13, $K$11:$GG$11, "<="&$C$6),""),"") -> 0 | H13: =IFERROR(IF(B13<>"",COUNTIFS($K$11:$GG$11, "<="&$C$6, K13:GG13, "<>", K13:GG13, "<>k"),""),"") -> 0 | I13: =IFERROR(IF(B13<>"",SUMIFS(K13:GG13, $K$11:$GG$11, ">"&$C$6),""),"") -> 0 | J13: =IFERROR(IF(B13<>"", COUNTIFS($K$11:$GG$11, ">"&$C$6, K13:GG13, "<>", K13:GG13, "<>k"), ""), "") -> 0
A14: =IF(B14<>"",Übersicht!A11,"") -> 3 | B14: =IF(Übersicht!C11<>"",Übersicht!C11,"") -> asdfl | C14: =IFERROR(MIN(4,ROUND(D14,0)),"") | D14: =IFERROR(G14/H14,"") | E14: =IFERROR(MIN(4,ROUND(F14,0)),"") | F14: =IFERROR(I14/J14,"") | G14: =IFERROR(IF(B14<>"",SUMIFS(K14:GG14, $K$11:$GG$11, "<="&$C$6),""),"") -> 0 | H14: =IFERROR(IF(B14<>"",COUNTIFS($K$11:$GG$11, "<="&$C$6, K14:GG14, "<>", K14:GG14, "<>k"),""),"") -> 0 | I14: =IFERROR(IF(B14<>"",SUMIFS(K14:GG14, $K$11:$GG$11, ">"&$C$6),""),"") -> 0 | J14: =IFERROR(IF(B14<>"", COUNTIFS($K$11:$GG$11, ">"&$C$6, K14:GG14, "<>", K14:GG14, "<>k"), ""), "") -> 0
A15: =IF(B15<>"",Übersicht!A12,"") | B15: =IF(Übersicht!C12<>"",Übersicht!C12,"") | C15: =IFERROR(MIN(4,ROUND(D15,0)),"") | D15: =IFERROR(G15/H15,"") | E15: =IFERROR(MIN(4,ROUND(F15,0)),"") | F15: =IFERROR(I15/J15,"") | G15: =IFERROR(IF(B15<>"",SUMIFS(K15:GG15, $K$11:$GG$11, "<="&$C$6),""),"") | H15: =IFERROR(IF(B15<>"",COUNTIFS($K$11:$GG$11, "<="&$C$6, K15:GG15, "<>", K15:GG15, "<>k"),""),"") | I15: =IFERROR(IF(B15<>"",SUMIFS(K15:GG15, $K$11:$GG$11, ">"&$C$6),""),"") | J15: =IFERROR(IF(B15<>"", COUNTIFS($K$11:$GG$11, ">"&$C$6, K15:GG15, "<>", K15:GG15, "<>k"), ""), "")
A16: =IF(B16<>"",Übersicht!A13,"") | B16: =IF(Übersicht!C13<>"",Übersicht!C13,"") | C16: =IFERROR(MIN(4,ROUND(D16,0)),"") | D16: =IFERROR(G16/H16,"") | E16: =IFERROR(MIN(4,ROUND(F16,0)),"") | F16: =IFERROR(I16/J16,"") | G16: =IFERROR(IF(B16<>"",SUMIFS(K16:GG16, $K$11:$GG$11, "<="&$C$6),""),"") | H16: =IFERROR(IF(B16<>"",COUNTIFS($K$11:$GG$11, "<="&$C$6, K16:GG16, "<>", K16:GG16, "<>k"),""),"") | I16: =IFERROR(IF(B16<>"",SUMIFS(K16:GG16, $K$11:$GG$11, ">"&$C$6),""),"") | J16: =IFERROR(IF(B16<>"", COUNTIFS($K$11:$GG$11, ">"&$C$6, K16:GG16, "<>", K16:GG16, "<>k"), ""), "")
A17: =IF(B17<>"",Übersicht!A14,"") | B17: =IF(Übersicht!C14<>"",Übersicht!C14,"") | C17: =IFERROR(MIN(4,ROUND(D17,0)),"") | D17: =IFERROR(G17/H17,"") | E17: =IFERROR(MIN(4,ROUND(F17,0)),"") | F17: =IFERROR(I17/J17,"") | G17: =IFERROR(IF(B17<>"",SUMIFS(K17:GG17, $K$11:$GG$11, "<="&$C$6),""),"") | H17: =IFERROR(IF(B17<>"",COUNTIFS($K$11:$GG$11, "<="&$C$6, K17:GG17, "<>", K17:GG17, "<>k"),""),"") | I17: =IFERROR(IF(B17<>"",SUMIFS(K17:GG17, $K$11:$GG$11, ">"&$C$6),""),"") | J17: =IFERROR(IF(B17<>"", COUNTIFS($K$11:$GG$11, ">"&$C$6, K17:GG17, "<>", K17:GG17, "<>k"), ""), "")
A18: =IF(B18<>"",Übersicht!A15,"") | B18: =IF(Übersicht!C15<>"",Übersicht!C15,"") | C18: =IFERROR(MIN(4,ROUND(D18,0)),"") | D18: =IFERROR(G18/H18,"") | E18: =IFERROR(MIN(4,ROUND(F18,0)),"") | F18: =IFERROR(I18/J18,"") | G18: =IFERROR(IF(B18<>"",SUMIFS(K18:GG18, $K$11:$GG$11, "<="&$C$6),""),"") | H18: =IFERROR(IF(B18<>"",COUNTIFS($K$11:$GG$11, "<="&$C$6, K18:GG18, "<>", K18:GG18, "<>k"),""),"") | I18: =IFERROR(IF(B18<>"",SUMIFS(K18:GG18, $K$11:$GG$11, ">"&$C$6),""),"") | J18: =IFERROR(IF(B18<>"", COUNTIFS($K$11:$GG$11, ">"&$C$6, K18:GG18, "<>", K18:GG18, "<>k"), ""), "")
A19: =IF(B19<>"",Übersicht!A16,"") | B19: =IF(Übersicht!C16<>"",Übersicht!C16,"") | C19: =IFERROR(MIN(4,ROUND(D19,0)),"") | D19: =IFERROR(G19/H19,"") | E19: =IFERROR(MIN(4,ROUND(F19,0)),"") | F19: =IFERROR(I19/J19,"") | G19: =IFERROR(IF(B19<>"",SUMIFS(K19:GG19, $K$11:$GG$11, "<="&$C$6),""),"") | H19: =IFERROR(IF(B19<>"",COUNTIFS($K$11:$GG$11, "<="&$C$6, K19:GG19, "<>", K19:GG19, "<>k"),""),"") | I19: =IFERROR(IF(B19<>"",SUMIFS(K19:GG19, $K$11:$GG$11, ">"&$C$6),""),"") | J19: =IFERROR(IF(B19<>"", COUNTIFS($K$11:$GG$11, ">"&$C$6, K19:GG19, "<>", K19:GG19, "<>k"), ""), "")
A20: =IF(B20<>"",Übersicht!A17,"") | B20: =IF(Übersicht!C17<>"",Übersicht!C17,"") | C20: =IFERROR(MIN(4,ROUND(D20,0)),"") | D20: =IFERROR(G20/H20,"") | E20: =IFERROR(MIN(4,ROUND(F20,0)),"") | F20: =IFERROR(I20/J20,"") | G20: =IFERROR(IF(B20<>"",SUMIFS(K20:GG20, $K$11:$GG$11, "<="&$C$6),""),"") | H20: =IFERROR(IF(B20<>"",COUNTIFS($K$11:$GG$11, "<="&$C$6, K20:GG20, "<>", K20:GG20, "<>k"),""),"") | I20: =IFERROR(IF(B20<>"",SUMIFS(K20:GG20, $K$11:$GG$11, ">"&$C$6),""),"") | J20: =IFERROR(IF(B20<>"", COUNTIFS($K$11:$GG$11, ">"&$C$6, K20:GG20, "<>", K20:GG20, "<>k"), ""), "")
A21: =IF(B21<>"",Übersicht!A18,"") | B21: =IF(Übersicht!C18<>"",Übersicht!C18,"") | C21: =IFERROR(MIN(4,ROUND(D21,0)),"") | D21: =IFERROR(G21/H21,"") | E21: =IFERROR(MIN(4,ROUND(F21,0)),"") | F21: =IFERROR(I21/J21,"") | G21: =IFERROR(IF(B21<>"",SUMIFS(K21:GG21, $K$11:$GG$11, "<="&$C$6),""),"") | H21: =IFERROR(IF(B21<>"",COUNTIFS($K$11:$GG$11, "<="&$C$6, K21:GG21, "<>", K21:GG21, "<>k"),""),"") | I21: =IFERROR(IF(B21<>"",SUMIFS(K21:GG21, $K$11:$GG$11, ">"&$C$6),""),"") | J21: =IFERROR(IF(B21<>"", COUNTIFS($K$11:$GG$11, ">"&$C$6, K21:GG21, "<>", K21:GG21, "<>k"), ""), "")
A22: =IF(B22<>"",Übersicht!A19,"") | B22: =IF(Übersicht!C19<>"",Übersicht!C19,"") | C22: =IFERROR(MIN(4,ROUND(D22,0)),"") | D22: =IFERROR(G22/H22,"") | E22: =IFERROR(MIN(4,ROUND(F22,0)),"") | F22: =IFERROR(I22/J22,"") | G22: =IFERROR(IF(B22<>"",SUMIFS(K22:GG22, $K$11:$GG$11, "<="&$C$6),""),"") | H22: =IFERROR(IF(B22<>"",COUNTIFS($K$11:$GG$11, "<="&$C$6, K22:GG22, "<>", K22:GG22, "<>k"),""),"") | I22: =IFERROR(IF(B22<>"",SUMIFS(K22:GG22, $K$11:$GG$11, ">"&$C$6),""),"") | J22: =IFERROR(IF(B22<>"", COUNTIFS($K$11:$GG$11, ">"&$C$6, K22:GG22, "<>", K22:GG22, "<>k"), ""), "")
A23: =IF(B23<>"",Übersicht!A20,"") | B23: =IF(Übersicht!C20<>"",Übersicht!C20,"") | C23: =IFERROR(MIN(4,ROUND(D23,0)),"") | D23: =IFERROR(G23/H23,"") | E23: =IFERROR(MIN(4,ROUND(F23,0)),"") | F23: =IFERROR(I23/J23,"") | G23: =IFERROR(IF(B23<>"",SUMIFS(K23:GG23, $K$11:$GG$11, "<="&$C$6),""),"") | H23: =IFERROR(IF(B23<>"",COUNTIFS($K$11:$GG$11, "<="&$C$6, K23:GG23, "<>", K23:GG23, "<>k"),""),"") | I23: =IFERROR(IF(B23<>"",SUMIFS(K23:GG23, $K$11:$GG$11, ">"&$C$6),""),"") | J23: =IFERROR(IF(B23<>"", COUNTIFS($K$11:$GG$11, ">"&$C$6, K23:GG23, "<>", K23:GG23, "<>k"), ""), "")
... A43: =IF(B43<>"",Übersicht!A40,"") | B43: =IF(Übersicht!C40<>"",Übersicht!C40,"") | C43: =IFERROR(MIN(4,ROUND(D43,0)),"") | D43: =IFERROR(G43/H43,"") | E43: =IFERROR(MIN(4,ROUND(F43,0)),"") | F43: =IFERROR(I43/J43,"") | G43: =IFERROR(IF(B43<>"",SUMIFS(K43:GG43, $K$11:$GG$11, "<="&$C$6),""),"") | H43: =IFERROR(IF(B43<>"",COUNTIFS($K$11:$GG$11, "<="&$C$6, K43:GG43, "<>", K43:GG43, "<>k"),""),"") | I43: =IFERROR(IF(B43<>"",SUMIFS(K43:GG43, $K$11:$GG$11, ">"&$C$6),""),"") | J43: =IFERROR(IF(B43<>"", COUNTIFS($K$11:$GG$11, ">"&$C$6, K43:GG43, "<>", K43:GG43, "<>k"), ""), "")
C44: =IFERROR(MIN(4,ROUND(D44,0)),"") | D44: =IFERROR(G44/H44,"") | E44: =IFERROR(MIN(4,ROUND(F44,0)),"") | F44: =IFERROR(I44/J44,"") | G44: =IFERROR(IF(B44<>"",SUMIFS(K44:GG44, $K$11:$GG$11, "<="&$C$6),""),"") | H44: =IFERROR(IF(B44<>"",COUNTIFS($K$11:$GG$11, "<="&$C$6, K44:GG44, "<>", K44:GG44, "<>k"),""),"") | I44: =IFERROR(IF(B44<>"",SUMIFS(K44:GG44, $K$11:$GG$11, ">"&$C$6),""),"") | J44: =IFERROR(IF(B44<>"", COUNTIFS($K$11:$GG$11, ">"&$C$6, K44:GG44, "<>", K44:GG44, "<>k"), ""), "")
C45: =IFERROR(MIN(4,ROUND(D45,0)),"") | D45: =IFERROR(G45/H45,"") | E45: =IFERROR(MIN(4,ROUND(F45,0)),"") | F45: =IFERROR(I45/J45,"") | G45: =IFERROR(IF(B45<>"",SUMIFS(K45:GG45, $K$11:$GG$11, "<="&$C$6),""),"") | H45: =IFERROR(IF(B45<>"",COUNTIFS($K$11:$GG$11, "<="&$C$6, K45:GG45, "<>", K45:GG45, "<>k"),""),"") | I45: =IFERROR(IF(B45<>"",SUMIFS(K45:GG45, $K$11:$GG$11, ">"&$C$6),""),"") | J45: =IFERROR(IF(B45<>"", COUNTIFS($K$11:$GG$11, ">"&$C$6, K45:GG45, "<>", K45:GG45, "<>k"), ""), "")
C46: =IFERROR(MIN(4,ROUND(D46,0)),"") | D46: =IFERROR(G46/H46,"") | E46: =IFERROR(ROUND(F46,0),"") | F46: =IFERROR(I46/J46,"") | G46: =IFERROR(IF(B46<>"",SUMIFS(K46:GG46, $K$11:$GG$11, "<="&$C$6),""),"") | H46: =IFERROR(IF(B46<>"",COUNTIFS($K$11:$GG$11, "<="&$C$6, K46:GG46, "<>"),""),"") | I46: =IFERROR(IF(B46<>"",SUMIFS(K46:GG46, $K$11:$GG$11, ">"&$C$6),""),"") | J46: =IFERROR(IF(B46<>"",COUNTIFS($K$11:$GG$11, ">"&$C$6, K46:GG46, "<>"),""),"")

Sheet HÜs
B1: Schuljahr | C1: =Übersicht!C1 -> 2026/27 | M1: ToDo: | N1: Jeweils 4.0 bis 0.0 mit Datum eintragen
B2: Fach/Klasse | C2: =Übersicht!C2 -> M - 4a | M2: Legende: | N2: + | O2: 4.0
B3: LehrerInnen | C3: =Übersicht!C3 -> Niklas Baumgärtler, Anna Maier | F3: Für Erklärung und Kontrolle der Zahlen | N3: #+ | O3: 3.0
F4: oben mit +/- Button auf/zuklappen! | N4: # | O4: 2.0
B5: Datum heute | C5: =TODAY() -> 46240 | N5: #- | O5: 1.0
B6: Semesterschluss | C6: =Übersicht!C4 -> 46429 | N6: - | O6: 0.0
M7: Hinweise | N7: Es reicht, "4" alleine als Zahl einzugeben, Excel macht dann automatisch ein 4.0 und berechnet den Rest selbstständig. Ein "k" steht für krank.
N8: Hat jemand eine besonders gute Leistung erbracht, kann z.B. ein 8.0 (Doppel-Plus) oder auch ein 6.0 eingetragen werden, das bessert vorherige schlechtere Ergebnisse entsprechend aus!
GG10: ACHTUNG: hier endet die automatische Berechnung! Falls noch mehr Einträge benötigt werden, müssen die Formeln entsprechend erweitert werden!
A11: Nummer | B11: SchülerIn | C11: 1. Sem. | D11: Ø 1. Sem. | E11: 2. Semester | F11: Ø 2. Sem. | G11: ∑ 1. Sem. | H11: Anz. 1. Sem. | I11: ∑ 2. Sem. | J11: Anz. 2. Sem. | K11: 46279 | L11: 46280 | M11: 46287 | N11: 46470 | O11: 46471 | P11: 46472 | Q11: 46457 | GG11: LETZTES DATUM
A12: =IF(B12<>"",Übersicht!A9,"") -> 1 | B12: =IF(Übersicht!C9<>"",Übersicht!C9,"") -> Max Mustermann | C12: =IFERROR(MIN(4,ROUND(D12,0)),"") | D12: =IFERROR(G12/H12,"") | E12: =IFERROR(MIN(4,ROUND(F12,0)),"") | F12: =IFERROR(I12/J12,"") | G12: =IFERROR(IF(B12<>"",SUMIFS(K12:GG12, $K$11:$GG$11, "<="&$C$6),""),"") -> 0 | H12: =IFERROR(IF(B12<>"",COUNTIFS($K$11:$GG$11, "<="&$C$6, K12:GG12, "<>", K12:GG12, "<>k"),""),"") -> 0 | I12: =IFERROR(IF(B12<>"",SUMIFS(K12:GG12, $K$11:$GG$11, ">"&$C$6),""),"") -> 0 | J12: =IFERROR(IF(B12<>"", COUNTIFS($K$11:$GG$11, ">"&$C$6, K12:GG12, "<>", K12:GG12, "<>k"), ""), "") -> 0
A13: =IF(B13<>"",Übersicht!A10,"") -> 2 | B13: =IF(Übersicht!C10<>"",Übersicht!C10,"") -> Eva Musterfrau | C13: =IFERROR(MIN(4,ROUND(D13,0)),"") | D13: =IFERROR(G13/H13,"") | E13: =IFERROR(MIN(4,ROUND(F13,0)),"") | F13: =IFERROR(I13/J13,"") | G13: =IFERROR(IF(B13<>"",SUMIFS(K13:GG13, $K$11:$GG$11, "<="&$C$6),""),"") -> 0 | H13: =IFERROR(IF(B13<>"",COUNTIFS($K$11:$GG$11, "<="&$C$6, K13:GG13, "<>", K13:GG13, "<>k"),""),"") -> 0 | I13: =IFERROR(IF(B13<>"",SUMIFS(K13:GG13, $K$11:$GG$11, ">"&$C$6),""),"") -> 0 | J13: =IFERROR(IF(B13<>"", COUNTIFS($K$11:$GG$11, ">"&$C$6, K13:GG13, "<>", K13:GG13, "<>k"), ""), "") -> 0
A14: =IF(B14<>"",Übersicht!A11,"") -> 3 | B14: =IF(Übersicht!C11<>"",Übersicht!C11,"") -> asdfl | C14: =IFERROR(MIN(4,ROUND(D14,0)),"") | D14: =IFERROR(G14/H14,"") | E14: =IFERROR(MIN(4,ROUND(F14,0)),"") | F14: =IFERROR(I14/J14,"") | G14: =IFERROR(IF(B14<>"",SUMIFS(K14:GG14, $K$11:$GG$11, "<="&$C$6),""),"") -> 0 | H14: =IFERROR(IF(B14<>"",COUNTIFS($K$11:$GG$11, "<="&$C$6, K14:GG14, "<>", K14:GG14, "<>k"),""),"") -> 0 | I14: =IFERROR(IF(B14<>"",SUMIFS(K14:GG14, $K$11:$GG$11, ">"&$C$6),""),"") -> 0 | J14: =IFERROR(IF(B14<>"", COUNTIFS($K$11:$GG$11, ">"&$C$6, K14:GG14, "<>", K14:GG14, "<>k"), ""), "") -> 0
A15: =IF(B15<>"",Übersicht!A12,"") | B15: =IF(Übersicht!C12<>"",Übersicht!C12,"") | C15: =IFERROR(MIN(4,ROUND(D15,0)),"") | D15: =IFERROR(G15/H15,"") | E15: =IFERROR(MIN(4,ROUND(F15,0)),"") | F15: =IFERROR(I15/J15,"") | G15: =IFERROR(IF(B15<>"",SUMIFS(K15:GG15, $K$11:$GG$11, "<="&$C$6),""),"") | H15: =IFERROR(IF(B15<>"",COUNTIFS($K$11:$GG$11, "<="&$C$6, K15:GG15, "<>", K15:GG15, "<>k"),""),"") | I15: =IFERROR(IF(B15<>"",SUMIFS(K15:GG15, $K$11:$GG$11, ">"&$C$6),""),"") | J15: =IFERROR(IF(B15<>"", COUNTIFS($K$11:$GG$11, ">"&$C$6, K15:GG15, "<>", K15:GG15, "<>k"), ""), "")
A16: =IF(B16<>"",Übersicht!A13,"") | B16: =IF(Übersicht!C13<>"",Übersicht!C13,"") | C16: =IFERROR(MIN(4,ROUND(D16,0)),"") | D16: =IFERROR(G16/H16,"") | E16: =IFERROR(MIN(4,ROUND(F16,0)),"") | F16: =IFERROR(I16/J16,"") | G16: =IFERROR(IF(B16<>"",SUMIFS(K16:GG16, $K$11:$GG$11, "<="&$C$6),""),"") | H16: =IFERROR(IF(B16<>"",COUNTIFS($K$11:$GG$11, "<="&$C$6, K16:GG16, "<>", K16:GG16, "<>k"),""),"") | I16: =IFERROR(IF(B16<>"",SUMIFS(K16:GG16, $K$11:$GG$11, ">"&$C$6),""),"") | J16: =IFERROR(IF(B16<>"", COUNTIFS($K$11:$GG$11, ">"&$C$6, K16:GG16, "<>", K16:GG16, "<>k"), ""), "")
A17: =IF(B17<>"",Übersicht!A14,"") | B17: =IF(Übersicht!C14<>"",Übersicht!C14,"") | C17: =IFERROR(MIN(4,ROUND(D17,0)),"") | D17: =IFERROR(G17/H17,"") | E17: =IFERROR(MIN(4,ROUND(F17,0)),"") | F17: =IFERROR(I17/J17,"") | G17: =IFERROR(IF(B17<>"",SUMIFS(K17:GG17, $K$11:$GG$11, "<="&$C$6),""),"") | H17: =IFERROR(IF(B17<>"",COUNTIFS($K$11:$GG$11, "<="&$C$6, K17:GG17, "<>", K17:GG17, "<>k"),""),"") | I17: =IFERROR(IF(B17<>"",SUMIFS(K17:GG17, $K$11:$GG$11, ">"&$C$6),""),"") | J17: =IFERROR(IF(B17<>"", COUNTIFS($K$11:$GG$11, ">"&$C$6, K17:GG17, "<>", K17:GG17, "<>k"), ""), "")
A18: =IF(B18<>"",Übersicht!A15,"") | B18: =IF(Übersicht!C15<>"",Übersicht!C15,"") | C18: =IFERROR(MIN(4,ROUND(D18,0)),"") | D18: =IFERROR(G18/H18,"") | E18: =IFERROR(MIN(4,ROUND(F18,0)),"") | F18: =IFERROR(I18/J18,"") | G18: =IFERROR(IF(B18<>"",SUMIFS(K18:GG18, $K$11:$GG$11, "<="&$C$6),""),"") | H18: =IFERROR(IF(B18<>"",COUNTIFS($K$11:$GG$11, "<="&$C$6, K18:GG18, "<>", K18:GG18, "<>k"),""),"") | I18: =IFERROR(IF(B18<>"",SUMIFS(K18:GG18, $K$11:$GG$11, ">"&$C$6),""),"") | J18: =IFERROR(IF(B18<>"", COUNTIFS($K$11:$GG$11, ">"&$C$6, K18:GG18, "<>", K18:GG18, "<>k"), ""), "")
A19: =IF(B19<>"",Übersicht!A16,"") | B19: =IF(Übersicht!C16<>"",Übersicht!C16,"") | C19: =IFERROR(MIN(4,ROUND(D19,0)),"") | D19: =IFERROR(G19/H19,"") | E19: =IFERROR(MIN(4,ROUND(F19,0)),"") | F19: =IFERROR(I19/J19,"") | G19: =IFERROR(IF(B19<>"",SUMIFS(K19:GG19, $K$11:$GG$11, "<="&$C$6),""),"") | H19: =IFERROR(IF(B19<>"",COUNTIFS($K$11:$GG$11, "<="&$C$6, K19:GG19, "<>", K19:GG19, "<>k"),""),"") | I19: =IFERROR(IF(B19<>"",SUMIFS(K19:GG19, $K$11:$GG$11, ">"&$C$6),""),"") | J19: =IFERROR(IF(B19<>"", COUNTIFS($K$11:$GG$11, ">"&$C$6, K19:GG19, "<>", K19:GG19, "<>k"), ""), "")
A20: =IF(B20<>"",Übersicht!A17,"") | B20: =IF(Übersicht!C17<>"",Übersicht!C17,"") | C20: =IFERROR(MIN(4,ROUND(D20,0)),"") | D20: =IFERROR(G20/H20,"") | E20: =IFERROR(MIN(4,ROUND(F20,0)),"") | F20: =IFERROR(I20/J20,"") | G20: =IFERROR(IF(B20<>"",SUMIFS(K20:GG20, $K$11:$GG$11, "<="&$C$6),""),"") | H20: =IFERROR(IF(B20<>"",COUNTIFS($K$11:$GG$11, "<="&$C$6, K20:GG20, "<>", K20:GG20, "<>k"),""),"") | I20: =IFERROR(IF(B20<>"",SUMIFS(K20:GG20, $K$11:$GG$11, ">"&$C$6),""),"") | J20: =IFERROR(IF(B20<>"", COUNTIFS($K$11:$GG$11, ">"&$C$6, K20:GG20, "<>", K20:GG20, "<>k"), ""), "")
A21: =IF(B21<>"",Übersicht!A18,"") | B21: =IF(Übersicht!C18<>"",Übersicht!C18,"") | C21: =IFERROR(MIN(4,ROUND(D21,0)),"") | D21: =IFERROR(G21/H21,"") | E21: =IFERROR(MIN(4,ROUND(F21,0)),"") | F21: =IFERROR(I21/J21,"") | G21: =IFERROR(IF(B21<>"",SUMIFS(K21:GG21, $K$11:$GG$11, "<="&$C$6),""),"") | H21: =IFERROR(IF(B21<>"",COUNTIFS($K$11:$GG$11, "<="&$C$6, K21:GG21, "<>", K21:GG21, "<>k"),""),"") | I21: =IFERROR(IF(B21<>"",SUMIFS(K21:GG21, $K$11:$GG$11, ">"&$C$6),""),"") | J21: =IFERROR(IF(B21<>"", COUNTIFS($K$11:$GG$11, ">"&$C$6, K21:GG21, "<>", K21:GG21, "<>k"), ""), "")
A22: =IF(B22<>"",Übersicht!A19,"") | B22: =IF(Übersicht!C19<>"",Übersicht!C19,"") | C22: =IFERROR(MIN(4,ROUND(D22,0)),"") | D22: =IFERROR(G22/H22,"") | E22: =IFERROR(MIN(4,ROUND(F22,0)),"") | F22: =IFERROR(I22/J22,"") | G22: =IFERROR(IF(B22<>"",SUMIFS(K22:GG22, $K$11:$GG$11, "<="&$C$6),""),"") | H22: =IFERROR(IF(B22<>"",COUNTIFS($K$11:$GG$11, "<="&$C$6, K22:GG22, "<>", K22:GG22, "<>k"),""),"") | I22: =IFERROR(IF(B22<>"",SUMIFS(K22:GG22, $K$11:$GG$11, ">"&$C$6),""),"") | J22: =IFERROR(IF(B22<>"", COUNTIFS($K$11:$GG$11, ">"&$C$6, K22:GG22, "<>", K22:GG22, "<>k"), ""), "")
A23: =IF(B23<>"",Übersicht!A20,"") | B23: =IF(Übersicht!C20<>"",Übersicht!C20,"") | C23: =IFERROR(MIN(4,ROUND(D23,0)),"") | D23: =IFERROR(G23/H23,"") | E23: =IFERROR(MIN(4,ROUND(F23,0)),"") | F23: =IFERROR(I23/J23,"") | G23: =IFERROR(IF(B23<>"",SUMIFS(K23:GG23, $K$11:$GG$11, "<="&$C$6),""),"") | H23: =IFERROR(IF(B23<>"",COUNTIFS($K$11:$GG$11, "<="&$C$6, K23:GG23, "<>", K23:GG23, "<>k"),""),"") | I23: =IFERROR(IF(B23<>"",SUMIFS(K23:GG23, $K$11:$GG$11, ">"&$C$6),""),"") | J23: =IFERROR(IF(B23<>"", COUNTIFS($K$11:$GG$11, ">"&$C$6, K23:GG23, "<>", K23:GG23, "<>k"), ""), "")
... A43: =IF(B43<>"",Übersicht!A40,"") | B43: =IF(Übersicht!C40<>"",Übersicht!C40,"") | C43: =IFERROR(MIN(4,ROUND(D43,0)),"") | D43: =IFERROR(G43/H43,"") | E43: =IFERROR(MIN(4,ROUND(F43,0)),"") | F43: =IFERROR(I43/J43,"") | G43: =IFERROR(IF(B43<>"",SUMIFS(K43:GG43, $K$11:$GG$11, "<="&$C$6),""),"") | H43: =IFERROR(IF(B43<>"",COUNTIFS($K$11:$GG$11, "<="&$C$6, K43:GG43, "<>", K43:GG43, "<>k"),""),"") | I43: =IFERROR(IF(B43<>"",SUMIFS(K43:GG43, $K$11:$GG$11, ">"&$C$6),""),"") | J43: =IFERROR(IF(B43<>"", COUNTIFS($K$11:$GG$11, ">"&$C$6, K43:GG43, "<>", K43:GG43, "<>k"), ""), "")
C44: =IFERROR(MIN(4,ROUND(D44,0)),"") | D44: =IFERROR(G44/H44,"") | E44: =IFERROR(MIN(4,ROUND(F44,0)),"") | F44: =IFERROR(I44/J44,"") | G44: =IFERROR(IF(B44<>"",SUMIFS(K44:GG44, $K$11:$GG$11, "<="&$C$6),""),"") | H44: =IFERROR(IF(B44<>"",COUNTIFS($K$11:$GG$11, "<="&$C$6, K44:GG44, "<>", K44:GG44, "<>k"),""),"") | I44: =IFERROR(IF(B44<>"",SUMIFS(K44:GG44, $K$11:$GG$11, ">"&$C$6),""),"") | J44: =IFERROR(IF(B44<>"", COUNTIFS($K$11:$GG$11, ">"&$C$6, K44:GG44, "<>", K44:GG44, "<>k"), ""), "")
C45: =IFERROR(MIN(4,ROUND(D45,0)),"") | D45: =IFERROR(G45/H45,"") | E45: =IFERROR(MIN(4,ROUND(F45,0)),"") | F45: =IFERROR(I45/J45,"") | G45: =IFERROR(IF(B45<>"",SUMIFS(K45:GG45, $K$11:$GG$11, "<="&$C$6),""),"") | H45: =IFERROR(IF(B45<>"",COUNTIFS($K$11:$GG$11, "<="&$C$6, K45:GG45, "<>", K45:GG45, "<>k"),""),"") | I45: =IFERROR(IF(B45<>"",SUMIFS(K45:GG45, $K$11:$GG$11, ">"&$C$6),""),"") | J45: =IFERROR(IF(B45<>"", COUNTIFS($K$11:$GG$11, ">"&$C$6, K45:GG45, "<>", K45:GG45, "<>k"), ""), "")
C46: =IFERROR(MIN(4,ROUND(D46,0)),"") | D46: =IFERROR(G46/H46,"") | E46: =IFERROR(ROUND(F46,0),"") | F46: =IFERROR(I46/J46,"") | G46: =IFERROR(IF(B46<>"",SUMIFS(K46:GG46, $K$11:$GG$11, "<="&$C$6),""),"") | H46: =IFERROR(IF(B46<>"",COUNTIFS($K$11:$GG$11, "<="&$C$6, K46:GG46, "<>"),""),"") | I46: =IFERROR(IF(B46<>"",SUMIFS(K46:GG46, $K$11:$GG$11, ">"&$C$6),""),"") | J46: =IFERROR(IF(B46<>"",COUNTIFS($K$11:$GG$11, ">"&$C$6, K46:GG46, "<>"),""),"")

Sheet LZKs
B1: Schuljahr | C1: =Übersicht!C1 -> 2026/27 | M1: ToDo: | N1: Jeweils 4.0 bis 0.0 mit Datum eintragen
B2: Fach/Klasse | C2: =Übersicht!C2 -> M - 4a | M2: Legende: | N2: + | O2: 4.0
B3: LehrerInnen | C3: =Übersicht!C3 -> Niklas Baumgärtler, Anna Maier | F3: Für Erklärung und Kontrolle der Zahlen | N3: #+ | O3: 3.0
F4: oben mit +/- Button auf/zuklappen! | N4: # | O4: 2.0
B5: Datum heute | C5: =TODAY() -> 46240 | N5: #- | O5: 1.0
B6: Semesterschluss | C6: =Übersicht!C4 -> 46429 | N6: - | O6: 0.0
M7: Hinweise | N7: Es reicht, "4" alleine als Zahl einzugeben, Excel macht dann automatisch ein 4.0 und berechnet den Rest selbstständig. Ein "k" steht für krank.
N8: Hat jemand eine besonders gute Leistung erbracht, kann z.B. ein 8.0 (Doppel-Plus) oder auch ein 6.0 eingetragen werden, das bessert vorherige schlechtere Ergebnisse entsprechend aus!
GG10: ACHTUNG: hier endet die automatische Berechnung! Falls noch mehr Einträge benötigt werden, müssen die Formeln entsprechend erweitert werden!
A11: Nummer | B11: SchülerIn | C11: 1. Sem. | D11: Ø 1. Sem. | E11: 2. Semester | F11: Ø 2. Sem. | G11: ∑ 1. Sem. | H11: Anz. 1. Sem. | I11: ∑ 2. Sem. | J11: Anz. 2. Sem. | K11: 46277 | L11: 46280 | M11: 46287 | N11: 46470 | O11: 46471 | P11: 46472 | Q11: 46474 | GG11: LETZTES DATUM
A12: =IF(B12<>"",Übersicht!A9,"") -> 1 | B12: =IF(Übersicht!C9<>"",Übersicht!C9,"") -> Max Mustermann | C12: =IFERROR(MIN(4,ROUND(D12,0)),"") | D12: =IFERROR(G12/H12,"") | E12: =IFERROR(MIN(4,ROUND(F12,0)),"") | F12: =IFERROR(I12/J12,"") | G12: =IFERROR(IF(B12<>"",SUMIFS(K12:GG12, $K$11:$GG$11, "<="&$C$6),""),"") -> 0 | H12: =IFERROR(IF(B12<>"",COUNTIFS($K$11:$GG$11, "<="&$C$6, K12:GG12, "<>", K12:GG12, "<>k"),""),"") -> 0 | I12: =IFERROR(IF(B12<>"",SUMIFS(K12:GG12, $K$11:$GG$11, ">"&$C$6),""),"") -> 0 | J12: =IFERROR(IF(B12<>"", COUNTIFS($K$11:$GG$11, ">"&$C$6, K12:GG12, "<>", K12:GG12, "<>k"), ""), "") -> 0
A13: =IF(B13<>"",Übersicht!A10,"") -> 2 | B13: =IF(Übersicht!C10<>"",Übersicht!C10,"") -> Eva Musterfrau | C13: =IFERROR(MIN(4,ROUND(D13,0)),"") | D13: =IFERROR(G13/H13,"") | E13: =IFERROR(MIN(4,ROUND(F13,0)),"") | F13: =IFERROR(I13/J13,"") | G13: =IFERROR(IF(B13<>"",SUMIFS(K13:GG13, $K$11:$GG$11, "<="&$C$6),""),"") -> 0 | H13: =IFERROR(IF(B13<>"",COUNTIFS($K$11:$GG$11, "<="&$C$6, K13:GG13, "<>", K13:GG13, "<>k"),""),"") -> 0 | I13: =IFERROR(IF(B13<>"",SUMIFS(K13:GG13, $K$11:$GG$11, ">"&$C$6),""),"") -> 0 | J13: =IFERROR(IF(B13<>"", COUNTIFS($K$11:$GG$11, ">"&$C$6, K13:GG13, "<>", K13:GG13, "<>k"), ""), "") -> 0
A14: =IF(B14<>"",Übersicht!A11,"") -> 3 | B14: =IF(Übersicht!C11<>"",Übersicht!C11,"") -> asdfl | C14: =IFERROR(MIN(4,ROUND(D14,0)),"") | D14: =IFERROR(G14/H14,"") | E14: =IFERROR(MIN(4,ROUND(F14,0)),"") | F14: =IFERROR(I14/J14,"") | G14: =IFERROR(IF(B14<>"",SUMIFS(K14:GG14, $K$11:$GG$11, "<="&$C$6),""),"") -> 0 | H14: =IFERROR(IF(B14<>"",COUNTIFS($K$11:$GG$11, "<="&$C$6, K14:GG14, "<>", K14:GG14, "<>k"),""),"") -> 0 | I14: =IFERROR(IF(B14<>"",SUMIFS(K14:GG14, $K$11:$GG$11, ">"&$C$6),""),"") -> 0 | J14: =IFERROR(IF(B14<>"", COUNTIFS($K$11:$GG$11, ">"&$C$6, K14:GG14, "<>", K14:GG14, "<>k"), ""), "") -> 0
A15: =IF(B15<>"",Übersicht!A12,"") | B15: =IF(Übersicht!C12<>"",Übersicht!C12,"") | C15: =IFERROR(MIN(4,ROUND(D15,0)),"") | D15: =IFERROR(G15/H15,"") | E15: =IFERROR(MIN(4,ROUND(F15,0)),"") | F15: =IFERROR(I15/J15,"") | G15: =IFERROR(IF(B15<>"",SUMIFS(K15:GG15, $K$11:$GG$11, "<="&$C$6),""),"") | H15: =IFERROR(IF(B15<>"",COUNTIFS($K$11:$GG$11, "<="&$C$6, K15:GG15, "<>", K15:GG15, "<>k"),""),"") | I15: =IFERROR(IF(B15<>"",SUMIFS(K15:GG15, $K$11:$GG$11, ">"&$C$6),""),"") | J15: =IFERROR(IF(B15<>"", COUNTIFS($K$11:$GG$11, ">"&$C$6, K15:GG15, "<>", K15:GG15, "<>k"), ""), "")
A16: =IF(B16<>"",Übersicht!A13,"") | B16: =IF(Übersicht!C13<>"",Übersicht!C13,"") | C16: =IFERROR(MIN(4,ROUND(D16,0)),"") | D16: =IFERROR(G16/H16,"") | E16: =IFERROR(MIN(4,ROUND(F16,0)),"") | F16: =IFERROR(I16/J16,"") | G16: =IFERROR(IF(B16<>"",SUMIFS(K16:GG16, $K$11:$GG$11, "<="&$C$6),""),"") | H16: =IFERROR(IF(B16<>"",COUNTIFS($K$11:$GG$11, "<="&$C$6, K16:GG16, "<>", K16:GG16, "<>k"),""),"") | I16: =IFERROR(IF(B16<>"",SUMIFS(K16:GG16, $K$11:$GG$11, ">"&$C$6),""),"") | J16: =IFERROR(IF(B16<>"", COUNTIFS($K$11:$GG$11, ">"&$C$6, K16:GG16, "<>", K16:GG16, "<>k"), ""), "")
A17: =IF(B17<>"",Übersicht!A14,"") | B17: =IF(Übersicht!C14<>"",Übersicht!C14,"") | C17: =IFERROR(MIN(4,ROUND(D17,0)),"") | D17: =IFERROR(G17/H17,"") | E17: =IFERROR(MIN(4,ROUND(F17,0)),"") | F17: =IFERROR(I17/J17,"") | G17: =IFERROR(IF(B17<>"",SUMIFS(K17:GG17, $K$11:$GG$11, "<="&$C$6),""),"") | H17: =IFERROR(IF(B17<>"",COUNTIFS($K$11:$GG$11, "<="&$C$6, K17:GG17, "<>", K17:GG17, "<>k"),""),"") | I17: =IFERROR(IF(B17<>"",SUMIFS(K17:GG17, $K$11:$GG$11, ">"&$C$6),""),"") | J17: =IFERROR(IF(B17<>"", COUNTIFS($K$11:$GG$11, ">"&$C$6, K17:GG17, "<>", K17:GG17, "<>k"), ""), "")
